BEGIN:VCALENDAR
VERSION:2.0
PRODID:-//ChamberMaster//Event Calendar 2.0//EN
METHOD:PUBLISH
X-PUBLISHED-TTL:P3D
REFRESH-INTERVAL:P3D
CALSCALE:GREGORIAN
BEGIN:VEVENT
DTSTART:20151114T190000Z
DTEND:20151115T020000Z
X-MICROSOFT-CDO-ALLDAYEVENT:FALSE
SUMMARY:Chicago Fil-Am Craft Beer Tasting and Food Fest
DESCRIPTION:Chow down on food truck treats\, sip craft beer & jam to nostaligic lounge music! The Filipino American Council of Greater Chicago (FACC) has partnered with Brunder to create an event connecting Chicago's vibrant Filipino and American community to local craft beer and creative food makers. This is a 21+ only event. Pre-registration required. NO TICKETS WILL BE SOLD AT THE DOOR. Two Sessions: 1-4pm and 5-8pm https://www.universe.com/events/chicago-fil-am-craft-beer-and-food-fest-tickets-chicago-J2KF9N
X-ALT-DESC;FMTTYPE=text/html:Chow down on food truck treats\, sip craft beer &amp\; jam to nostaligic lounge music! The Filipino American Council of Greater Chicago (FACC) has partnered with Brunder to create an event connecting Chicago&#39\;s vibrant Filipino and American community to local craft beer and creative food makers. This is a 21+ only event. Pre-registration required. NO TICKETS WILL BE SOLD AT THE DOOR. Two Sessions: 1-4pm and 5-8pm https://www.universe.com/events/chicago-fil-am-craft-beer-and-food-fest-tickets-chicago-J2KF9N
LOCATION:Rizal Center 1332 West Irving Park Road Chicago IL 60613
UID:e.1819.2246
SEQUENCE:3
DTSTAMP:20260422T223835Z
URL:https://members.lakeviewroscoevillage.org/events/details/chicago-fil-am-craft-beer-tasting-and-food-fest-11-14-2015-2246
END:VEVENT

END:VCALENDAR
