BEGIN:VCALENDAR
VERSION:2.0
PRODID:-//ChamberMaster//Event Calendar 2.0//EN
METHOD:PUBLISH
X-PUBLISHED-TTL:P3D
REFRESH-INTERVAL:P3D
CALSCALE:GREGORIAN
BEGIN:VEVENT
DTSTART:20140221T060000Z
DTEND:20140418T220000Z
X-MICROSOFT-CDO-ALLDAYEVENT:FALSE
SUMMARY:Chicago Pitch Project
DESCRIPTION:New Business Contest to Award $20\,000 in Cash\, Prizes\n\n\n\nThe Chicago Pitch Project is seeking entrepreneurs hoping to start or expand their businesses and is offering more than $20\,000 in prizes to the three finalists\, including one year rent-free at ICNC.\n\n\n\nApplication Deadline: April 18\, 2014. \n\nSubmit to: www.chicagopitchproject.com \n\n\n\nClick here for flyer!
X-ALT-DESC;FMTTYPE=text/html:<span style="font-size:12px\;"><span style="font-family:arial\;"><strong>New Business Contest to Award $20\,000 in Cash\, Prizes</strong><br />\n<br />\nThe&nbsp\;Chicago Pitch Project is seeking entrepreneurs hoping to start or expand their businesses and is offering more than $20\,000 in prizes to the three finalists\, including one year rent-free at ICNC</span></span><span style="font-family:arial\,sans-serif\;"><span style="font-size:12.0pt\;"><span style="font-size:12px\;"><span style="font-family:arial\;">.<br />\n<br />\nApplication Deadline: April 18\, 2014.&nbsp\;<br />\nSubmit to: www.chicagopitchproject.com&nbsp\;</span></span><br />\n<br />\n<a href="http://cloud.chambermaster.com/userfiles/UserFiles/chambers/1819/File/ChicagoPitchProjectPressRelease.pdf">Click here for flyer!</a></span></span><br />\n&nbsp\;
LOCATION:
UID:e.1819.225
SEQUENCE:3
DTSTAMP:20260424T120650Z
URL:https://members.lakeviewroscoevillage.org/events/details/chicago-pitch-project-02-21-2014-225
END:VEVENT

END:VCALENDAR
