BEGIN:VCALENDAR
VERSION:2.0
PRODID:-//ChamberMaster//Event Calendar 2.0//EN
METHOD:PUBLISH
X-PUBLISHED-TTL:P3D
REFRESH-INTERVAL:P3D
CALSCALE:GREGORIAN
BEGIN:VEVENT
DTSTART:20160706T230000Z
DTEND:20160707T010000Z
X-MICROSOFT-CDO-ALLDAYEVENT:FALSE
SUMMARY:Child and Family businesses Networking Reception
DESCRIPTION:Do you own or manage a child oriented business or organization on the northside? Then you'll want to attend this networking event being co-hosted by chamber members\, Pitter Patter Parenting and Bespeak Studios\, with food provided by Snarf's Sandwiches. Come meet other businesses that cater to kids and their parents for referral and partnership opportunities.\n\n\n\nRSVP requested at alicia@pitterpatterparenting.com.
X-ALT-DESC;FMTTYPE=text/html:Do you own or manage a child oriented business or organization on the northside? Then you&#39\;ll want to attend this networking event being co-hosted by chamber members\, Pitter Patter Parenting and Bespeak Studios\, with food provided by Snarf&#39\;s Sandwiches. Come meet other businesses that cater to kids and their parents for referral and partnership opportunities.<br />\n<br />\nRSVP requested at alicia@pitterpatterparenting.com.
LOCATION:Bespeak Studios\, 737 W. Wrightwood Ave. Chicago IL 60614
UID:e.1819.2959
SEQUENCE:3
DTSTAMP:20260422T081746Z
URL:https://members.lakeviewroscoevillage.org/events/details/child-and-family-businesses-networking-reception-07-06-2016-2959
END:VEVENT

END:VCALENDAR
