BEGIN:VCALENDAR
VERSION:2.0
PRODID:-//ChamberMaster//Event Calendar 2.0//EN
METHOD:PUBLISH
X-PUBLISHED-TTL:P3D
REFRESH-INTERVAL:P3D
CALSCALE:GREGORIAN
BEGIN:VEVENT
DTSTART:20131224T230000Z
DTEND:20131225T000000Z
X-MICROSOFT-CDO-ALLDAYEVENT:FALSE
SUMMARY:Children's Christmas Eve Service
DESCRIPTION:Join us at St. Luke's Church for our Children's Christmas Eve Service.
X-ALT-DESC;FMTTYPE=text/html:<p>\n	Join us at St. Luke&#39\;s Church for our Children&#39\;s Christmas Eve Service.</p>\n<div id="event_content">\n	<div id="event_date">\n		<p>\n			&nbsp\;</p>\n	</div>\n</div>\n
LOCATION:St. Luke's Church 1500 W. Belmont Ave. Chicago\, IL 60657
UID:e.1819.158
SEQUENCE:3
DTSTAMP:20260424T192226Z
URL:https://members.lakeviewroscoevillage.org/events/details/children-s-christmas-eve-service-12-24-2013-158
END:VEVENT

END:VCALENDAR
