BEGIN:VCALENDAR
VERSION:2.0
PRODID:-//ChamberMaster//Event Calendar 2.0//EN
METHOD:PUBLISH
X-PUBLISHED-TTL:P3D
REFRESH-INTERVAL:P3D
CALSCALE:GREGORIAN
BEGIN:VEVENT
DTSTART:20171222T220000Z
DTEND:20171222T233000Z
X-MICROSOFT-CDO-ALLDAYEVENT:FALSE
SUMMARY:CHRISTMAS COOKIE PARTIES
DESCRIPTION:CHRISTMAS COOKIE PARTIES MENU: Gingerbread Cookies & Hot Chocolate with Whipped Cream Ages: 4-10yrs
X-ALT-DESC;FMTTYPE=text/html:CHRISTMAS COOKIE PARTIES MENU: Gingerbread Cookies &amp\; Hot Chocolate with Whipped Cream Ages: 4-10yrs
LOCATION:2864 N. Lincoln Ave
UID:e.1819.11173
SEQUENCE:3
DTSTAMP:20260419T123619Z
URL:https://members.lakeviewroscoevillage.org/events/details/christmas-cookie-parties-12-22-2017-11173
END:VEVENT

END:VCALENDAR
