BEGIN:VCALENDAR
VERSION:2.0
PRODID:-//ChamberMaster//Event Calendar 2.0//EN
METHOD:PUBLISH
X-PUBLISHED-TTL:P3D
REFRESH-INTERVAL:P3D
CALSCALE:GREGORIAN
BEGIN:VEVENT
DTSTART:20140110T150000Z
DTEND:20140113T000000Z
X-MICROSOFT-CDO-ALLDAYEVENT:FALSE
SUMMARY:Christmas Tree Drop Off
DESCRIPTION:Ward 44's Christmas tree drop-off will still continue at the Cubs Green Lot (1126 W. Grace) between 9:00 am to 6:00 pm through Sunday\, January 12th. \n\n	\n\n	Please have all decorations and lights removed from the tree prior to dropping it off.  We strive to recycle and keep our environment clean. \n\n	\n\n	Thank you in advance for your help and commitment to the environment.
X-ALT-DESC;FMTTYPE=text/html:<p style="margin: 0in 0in 0pt\; text-align: justify\;">\n	<font size="3"><span style="background: white\; color: black\; font-family: &quot\;Arial Narrow&quot\;\,&quot\;sans-serif&quot\;\;">Ward 44&#39\;s Christmas tree drop-off will still continue at the Cubs Green Lot (1126 W. Grace) between 9:00 am to 6:00 pm through Sunday\, January 12th.&nbsp\;<br />\n	<br />\n	Please have&nbsp\;all decorations and lights removed from the tree prior to dropping it off.&nbsp\; We strive to recycle and keep our environment clean.&nbsp\;<br />\n	<br />\n	Thank&nbsp\;you in advance&nbsp\;for your help and commitment to the environment.&nbsp\;&nbsp\;&nbsp\;</span><span style="color: black\; font-family: &quot\;Arial Narrow&quot\;\,&quot\;sans-serif&quot\;\;"><o:p></o:p></span></font></p>\n
LOCATION:Cubs Green Lot 1126 W. Grace Chicago\, IL 60613
UID:e.1819.177
SEQUENCE:3
DTSTAMP:20260424T172507Z
URL:https://members.lakeviewroscoevillage.org/events/details/christmas-tree-drop-off-01-10-2014-177
END:VEVENT

END:VCALENDAR
