BEGIN:VCALENDAR
VERSION:2.0
PRODID:-//ChamberMaster//Event Calendar 2.0//EN
METHOD:PUBLISH
X-PUBLISHED-TTL:P3D
REFRESH-INTERVAL:P3D
CALSCALE:GREGORIAN
BEGIN:VEVENT
DTSTART:20150115T003000Z
DTEND:20150115T023000Z
X-MICROSOFT-CDO-ALLDAYEVENT:FALSE
SUMMARY:CLASS: January 2015 Networking & Wine Tasting
DESCRIPTION:Join us on January 14th\, 2015 for an EXCLUSIVE Wine Tasting Event. See event details below:\n\n\n\nWhere: Galleria Liqueurs 3409 N. Southport Ave. Chicago\, IL\n\nWhen:  Wednesday\, January 14th 2015 @ 6:30pm\n\nHow Much: $20 Galleria Liqueurs or EventBrite (Link Below)\n\n\n\nCLASS STARTS PROMPTLY AT 7:00PM\n\n\n\n----------------------\n\n\n\nOn Wednesday January 14th from 7:00p to 8:30pm\, Galleria Liqueurs (Southport) & Wine Dept Manager Dustin Halton will be hosting an "Exploration of Sparkling Wine" seminar in which participants will get to taste a variety of sparkling wines from around the world and also learn about the history of sparkling wine and how sparkling wine is made.  \n\n\n\nProceeds go directly to Galleria Liqueurs.\n\n\n\n$20 / PERSON (Purchase Tickets Below)\n\n$25 / Person (On-Site Purchase)\n\n\n\nhttps://www.eventbrite.com/e/rob-rosmis-realty-presents-galleria-liqueurs-wine-tasting-tickets-14949587619\n\n\n\nIncludes a presentation\, tasting 10 sparkling wines\, and a Q&A session afterwards.
X-ALT-DESC;FMTTYPE=text/html:<span style="color:rgb(20\, 24\, 35)\; font-family:helvetica\,arial\,lucida grande\,tahoma\,verdana\,arial\,sans-serif\; font-size:14px">Join us on January 14th\, 2015 for an EXCLUSIVE Wine Tasting Event. See event details below:</span><br />\n<br />\n<span style="color:rgb(20\, 24\, 35)\; font-family:helvetica\,arial\,lucida grande\,tahoma\,verdana\,arial\,sans-serif\; font-size:14px"><strong>Where: Galleria Liqueurs 3409 N. Southport Ave. Chicago\, IL<br />\nWhen: &nbsp\;Wednesday\, January 14th 2015 @ 6:30pm<br />\nHow Much: $20 Galleria Liqueurs or EventBrite (Link Below)</strong></span><br />\n<br />\n<u><strong><span style="color:rgb(20\, 24\, 35)\; font-family:helvetica\,arial\,lucida grande\,tahoma\,verdana\,arial\,sans-serif\; font-size:14px">CLASS STARTS PROMPTLY AT 7:00PM</span></strong></u><br />\n<br />\n<span style="color:rgb(20\, 24\, 35)\; font-family:helvetica\,arial\,lucida grande\,tahoma\,verdana\,arial\,sans-serif\; font-size:14px">----------------------</span><br />\n<br />\n<span style="color:rgb(20\, 24\, 35)\; font-family:helvetica\,arial\,lucida grande\,tahoma\,verdana\,arial\,sans-serif\; font-size:14px">On Wednesday January 14th from 7:00p to 8:30pm\, Galleria Liqueurs (Southport) &amp\; Wine Dept Manager Dustin Halton will be hosting an &quot\;Exploration of Sparkling Wine&quot\; seminar in which participants will get to taste a variety of sparkling wines from around the world and also learn about the history of sparkling wine and how sparkling wine is made.&nbsp\;&nbsp\;<br />\n<br />\nProceeds go directly to Galleria Liqueurs.<br />\n<br />\n$20 / PERSON (Purchase Tickets Below)<br />\n$25 / Person (On-Site Purchase)<br />\n<br />\n<a href="https://www.facebook.com/l.php?u=https%3A%2F%2Fwww.eventbrite.com%2Fe%2Frob-rosmis-realty-presents-galleria-liqueurs-wine-tasting-tickets-14949587619&amp\;h=aAQHB8k_W&amp\;enc=AZOur7320n81QJnbjZKHhaYCfPxs_6GRgcsm232c5OPpuyBoA7R21sD8B47haHx3nMs&amp\;s=1" rel="nofollow nofollow" style="color: rgb(59\, 89\, 152)\; cursor: pointer\; text-decoration: none\;" target="_blank">https://www.eventbrite.com/e/rob-rosmis-realty-presents-galleria-liqueurs-wine-tasting-tickets-14949587619</a><br />\n<br />\nIncludes a presentation\, tasting 10 sparkling wines\, and a Q&amp\;A session afterwards.</span>
LOCATION:Galleria Liqueurs - 3409 N. Southport Ave. Chicago\, IL 60657
UID:e.1819.1490
SEQUENCE:3
DTSTAMP:20260423T170732Z
URL:https://members.lakeviewroscoevillage.org/events/details/class-january-2015-networking-wine-tasting-01-14-2015-1490
END:VEVENT

END:VCALENDAR
