BEGIN:VCALENDAR
VERSION:2.0
PRODID:-//ChamberMaster//Event Calendar 2.0//EN
METHOD:PUBLISH
X-PUBLISHED-TTL:P3D
REFRESH-INTERVAL:P3D
CALSCALE:GREGORIAN
BEGIN:VEVENT
DTSTART:20131016T230000Z
DTEND:20131017T010000Z
X-MICROSOFT-CDO-ALLDAYEVENT:FALSE
SUMMARY:Clean Healthy Weight Loss Information Session: Learn how to start your last diet today
DESCRIPTION:Are you looking to become healthier by losing weight?  Join us at Clean Healthy Smiles at our Clean Healthy Weight Loss Informational Session.  During this session\, you will learn the science behind weight gain\, the startling facts about obesity in the US\, and the Weight Loss Consultation services we provide via our Clean Healthy Weight Loss program.  You will meet our coaches\, dieters\, and learn how effective these services are.\n\n\n\nSpecifially\, you will learn how the Ideal Protein Weight Loss Method will help you lose weight in an effective\, medically supervised protocol.\n\n\n\nCall 773-635-0555 or email info@cleanhealthysmiles.com to reserve your space at this great event.
X-ALT-DESC;FMTTYPE=text/html:Are you looking to become healthier by losing weight?&nbsp\; Join us at Clean Healthy Smiles at our Clean Healthy Weight Loss Informational Session.&nbsp\; During this session\, you will learn the science behind weight gain\, the startling facts about obesity in the US\, and the Weight Loss Consultation services we provide via our Clean Healthy Weight Loss program.&nbsp\; You will meet our coaches\, dieters\, and learn how effective these services are.<br />\n<br />\nSpecifially\, you will learn how the Ideal Protein Weight Loss Method will help you lose weight in an effective\, medically supervised protocol.<br />\n<br />\nCall 773-635-0555 or email <a href="mailto:info@cleanhealthysmiles.com">info@cleanhealthysmiles.com</a> to reserve your space at this great event.
LOCATION:Clean Healthy Smiles 3540 North Ashland Avenue Chicago\, IL 60657
UID:e.1819.91
SEQUENCE:3
DTSTAMP:20260425T004454Z
URL:https://members.lakeviewroscoevillage.org/events/details/clean-healthy-weight-loss-information-session-learn-how-to-start-your-last-diet-today-10-16-2013-91
END:VEVENT

END:VCALENDAR
