BEGIN:VCALENDAR
VERSION:2.0
PRODID:-//ChamberMaster//Event Calendar 2.0//EN
METHOD:PUBLISH
X-PUBLISHED-TTL:P3D
REFRESH-INTERVAL:P3D
CALSCALE:GREGORIAN
BEGIN:VEVENT
DTSTART:20171116T233000Z
DTEND:20171117T030000Z
X-MICROSOFT-CDO-ALLDAYEVENT:FALSE
SUMMARY:Coat and Toy Drive for Cradles to Crayons
DESCRIPTION:Come join us for a holiday social with a cause! Cradles to Crayons Chicago is an organization that helps provide the basics to children in need from newborn to age 12. Let's enjoy the evening with friends and make the holidays brighter for this group!\n\nWe are providing appetizers throughout the evening and a free sangria ticket! There will be servers at our event to take all other drink orders and passing around food throughout the evening.\n\n \n\nProudly sponsored by:\n\nNeil Hackler - Real Living City Residential - Neil Hackler Group\n\nNick Thompson - Chicago Wealth Management\n\nJustin Strane - Shapiro & Strane\n\nJennifer Guimond-Quigley - Law Office of Jennifer Guimond-Quigley\n\nTom Merritt - Summit Funding\n\nMichael Plageman - American Family Insurance
X-ALT-DESC;FMTTYPE=text/html:<p><span style="font-family:arial\,helvetica\,sans-serif\; font-size:small">Come join us for a holiday social with a cause!&nbsp\;Cradles to Crayons Chicago is an organization that helps provide the basics to children in need from newborn to age 12. Let&#39\;s enjoy the evening with friends and make the holidays brighter for this group!</span></p>\n\n<p><span style="font-family:arial\,helvetica\,sans-serif\; font-size:small">We are providing appetizers throughout the evening and a free sangria ticket! There will be servers at our event to take all other drink orders and passing around food throughout the evening.</span></p>\n\n<p>&nbsp\;</p>\n\n<p><span style="font-family:arial\,helvetica\,sans-serif\; font-size:small">Proudly sponsored by:</span></p>\n\n<div><span style="font-family:arial\,helvetica\,sans-serif\; font-size:small">Neil Hackler - Real&nbsp\;Living City Residential - Neil Hackler Group</span></div>\n\n<div><span style="font-family:arial\,helvetica\,sans-serif\; font-size:small">Nick Thompson - Chicago Wealth Management</span></div>\n\n<div><span style="font-family:arial\,helvetica\,sans-serif\; font-size:small">Justin Strane - Shapiro &amp\; Strane</span></div>\n\n<div><span style="font-family:arial\,helvetica\,sans-serif\; font-size:small">Jennifer Guimond-Quigley - Law Office of Jennifer Guimond-Quigley</span></div>\n\n<div><span style="font-family:arial\,helvetica\,sans-serif\; font-size:small">Tom Merritt - Summit Funding</span></div>\n\n<div><span style="font-family:arial\,helvetica\,sans-serif\; font-size:small">Michael Plageman - American Family Insurance</span></div>\n\n<div>&nbsp\;</div>\n
LOCATION:Nacional 27 325 West Huron Street Chicago\, IL 60654
UID:e.1819.11204
SEQUENCE:3
DTSTAMP:20260419T142954Z
URL:https://members.lakeviewroscoevillage.org/events/details/coat-and-toy-drive-for-cradles-to-crayons-11-16-2017-11204
END:VEVENT

END:VCALENDAR
