BEGIN:VCALENDAR
VERSION:2.0
PRODID:-//ChamberMaster//Event Calendar 2.0//EN
METHOD:PUBLISH
X-PUBLISHED-TTL:P3D
REFRESH-INTERVAL:P3D
CALSCALE:GREGORIAN
BEGIN:VEVENT
DTSTART;VALUE=DATE:20131212
DTEND;VALUE=DATE:20140213
TRANSP:TRANSPARENT
X-MICROSOFT-CDO-ALLDAYEVENT:TRUE
SUMMARY:Coat Drive Presented by Button & Zipper
DESCRIPTION:Chicago winters can be harsh and grueling. Bitter cold. Gusty winds. This season is especially difficult for the homeless or those who can't afford a warm coat.\n\n	Button & Zipper is a coat drive organized to help Chicago's needy. We've pledged to collect and distribute 1\,000 coats and jackets all sizes\, adults and children which we are distributing to homeless shelters\, youth organizations\, and individuals on the streets throughout the Chicagoland area this winter.\n\n	We'd love your support. Please share our cause with friends and colleagues. Thank you!\n\n	Watch a quick video about this week's recipients   homeless veterans  who we're reaching through Volunteers of America. \n\n	\n\n	https://www.facebook.com/ButtonAndZipper
X-ALT-DESC;FMTTYPE=text/html:<p>\n	Chicago winters can be harsh and grueling. Bitter cold. Gusty winds. This season is especially difficult for the homeless or those who can&rsquo\;t afford a warm coat.</p>\n<p>\n	Button &amp\; Zipper is a coat drive organized to help Chicago&rsquo\;s needy. We&rsquo\;ve pledged to collect and distribute 1\,000 coats and jackets&hellip\;all sizes\, adults and children&hellip\;which we are distributing to homeless shelters\, youth organizations\, and individuals on the streets throughout the Chicagoland area this winter.</p>\n<p>\n	We&rsquo\;d love your support. Please share our cause with friends and colleagues. Thank you!</p>\n<p>\n	<a href="https://www.facebook.com/photo.php?v=567538419991198" title="homeless Veterans"><font color="#0d85cc">Watch a quick video</font></a> about this week&rsquo\;s recipients &mdash\; homeless veterans &nbsp\;who we&rsquo\;re reaching through Volunteers of America.&nbsp\;<br />\n	<br />\n	https://www.facebook.com/ButtonAndZipper<br />\n	<br />\n	&nbsp\;</p>\n
LOCATION:DROP OFF: Lakeview Chamber of Commerce 1409 W. Addison St. Chicago\, IL 60613
UID:e.1819.152
SEQUENCE:3
DTSTAMP:20260424T153255Z
URL:https://members.lakeviewroscoevillage.org/events/details/coat-drive-presented-by-button-zipper-12-12-2013-152
END:VEVENT

END:VCALENDAR
