BEGIN:VCALENDAR
VERSION:2.0
PRODID:-//ChamberMaster//Event Calendar 2.0//EN
METHOD:PUBLISH
X-PUBLISHED-TTL:P3D
REFRESH-INTERVAL:P3D
CALSCALE:GREGORIAN
BEGIN:VEVENT
DTSTART:20151022T230000Z
DTEND:20151023T010000Z
X-MICROSOFT-CDO-ALLDAYEVENT:FALSE
SUMMARY:Cocktails and Conversation featuring Katie Kahn\, Lin Hixson and Matthew Goulish
DESCRIPTION:Cocktails and Conversation featuring Katie Kahn\, Lin Hixson and Matthew Goulish
X-ALT-DESC;FMTTYPE=text/html:<span style="color: rgb(34\, 34\, 34)\; font-family: arial\, sans-serif\; font-size: 12.8px\; line-height: normal\;">Cocktails and Conversation featuring Katie Kahn\, Lin Hixson and Matthew Goulish</span>
LOCATION:Kruger Gallery Chicago 3709 North Southport Chicago\, IL. 60613
UID:e.1819.2033
SEQUENCE:3
DTSTAMP:20260423T004042Z
URL:https://members.lakeviewroscoevillage.org/events/details/cocktails-and-conversation-featuring-katie-kahn-lin-hixson-and-matthew-goulish-10-22-2015-2033
END:VEVENT

END:VCALENDAR
