BEGIN:VCALENDAR
VERSION:2.0
PRODID:-//ChamberMaster//Event Calendar 2.0//EN
METHOD:PUBLISH
X-PUBLISHED-TTL:P3D
REFRESH-INTERVAL:P3D
CALSCALE:GREGORIAN
BEGIN:VEVENT
DTSTART:20161210T180000Z
DTEND:20161210T210000Z
X-MICROSOFT-CDO-ALLDAYEVENT:FALSE
SUMMARY:Cocoa with Santa
DESCRIPTION:Santa is coming to town to bring holiday cheer and take photos by the fireplace! Enjoy brunch and cocktails while the kids assemble their very own gingerbread kit and meet Santa himself! $15 for a professional photo and a gingerbread kit. Complimentary Hot Cocoa for the kids!
X-ALT-DESC;FMTTYPE=text/html:Santa is coming to town to bring holiday cheer and take photos by the fireplace! Enjoy brunch and cocktails while the kids assemble their very own gingerbread kit and meet Santa himself!&nbsp\;$15 for a professional photo and a gingerbread kit. Complimentary Hot Cocoa for the kids!&nbsp\;
LOCATION:Diag Bar & Grill 2856 N Southport Avenue Chicago\, IL 60657
UID:e.1819.4840
SEQUENCE:3
DTSTAMP:20260420T045615Z
URL:https://members.lakeviewroscoevillage.org/events/details/cocoa-with-santa-12-10-2016-4840
END:VEVENT

END:VCALENDAR
