BEGIN:VCALENDAR
VERSION:2.0
PRODID:-//ChamberMaster//Event Calendar 2.0//EN
METHOD:PUBLISH
X-PUBLISHED-TTL:P3D
REFRESH-INTERVAL:P3D
CALSCALE:GREGORIAN
BEGIN:VEVENT
DTSTART:20161210T180000Z
DTEND:20161210T210000Z
X-MICROSOFT-CDO-ALLDAYEVENT:FALSE
SUMMARY:Cocoa with Santa at Diag
DESCRIPTION:Santa is coming to town to bring holiday cheer and take photos by the fireplace! Enjoy brunch and cocktails while the kids assemble their very own gingerbread kit and meet Santa himself! $15 for a professional photo and a gingerbread kit. Complimentary Hot Cocoa for the kids! RSVP to mikaela@diagchicago.com
X-ALT-DESC;FMTTYPE=text/html:<span style="font-family: arial\, helvetica\, sans-serif\; font-size: 12.8px\;">Santa is coming to town to bring holiday cheer and take photos by the fireplace! Enjoy brunch and cocktails while the kids assemble their very own gingerbread kit and meet Santa himself!&nbsp\;$15 for a professional photo and a gingerbread kit. Complimentary Hot Cocoa for the kids! RSVP to&nbsp\;</span><a href="mailto:mikaela@diagchicago.com" style="color: rgb(17\, 85\, 204)\; font-family: arial\, helvetica\, sans-serif\; font-size: 12.8px\;" target="_blank"><span class="il">mikaela@diagchicago.com</span></a>
LOCATION:Diag Bar & Grill 2856 N Southport Ave
UID:e.1819.4870
SEQUENCE:3
DTSTAMP:20260420T045901Z
URL:https://members.lakeviewroscoevillage.org/events/details/cocoa-with-santa-at-diag-12-10-2016-4870
END:VEVENT

END:VCALENDAR
