BEGIN:VCALENDAR
VERSION:2.0
PRODID:-//ChamberMaster//Event Calendar 2.0//EN
METHOD:PUBLISH
X-PUBLISHED-TTL:P3D
REFRESH-INTERVAL:P3D
CALSCALE:GREGORIAN
BEGIN:VEVENT
DTSTART:20200819T130000Z
DTEND:20200819T140000Z
X-MICROSOFT-CDO-ALLDAYEVENT:FALSE
SUMMARY:Coffee & Commerce
DESCRIPTION:Join us for our free morning networking mixer now online\, it's Virtual Coffee & Commerce! Whether you are looking to make new business connections or just want to exchange ideas with other small business owners\, our new Virtual Coffee & Commerce is the perfect opportunity to enhance your professional network from the comfort of your phone or computer.\n\n\n\nThis event is hosted by the Lakeview Chamber of Commerce\, Lincoln Park Chamber of Commerce\, Roscoe Village Chamber of Commerce\, and the SBAC\, along with our partner\, Capital One Cafe.\n\n \n\nREGISTER HERE
X-ALT-DESC;FMTTYPE=text/html:<p>Join us for our free morning networking mixer now online\, it&#39\;s Virtual Coffee &amp\; Commerce! Whether you are looking to make new business connections or just want to exchange ideas with other small business owners\, our new Virtual Coffee &amp\; Commerce is the perfect opportunity to enhance your professional network from the comfort of your phone or computer.<br />\n<br />\nThis event is hosted by the Lakeview Chamber of Commerce\, Lincoln Park Chamber of Commerce\, Roscoe Village Chamber of Commerce\, and the SBAC\, along with our partner\, Capital One Cafe.<br />\n&nbsp\;</p>\n\n<p><span style="background:white\;"><span style="color:#222222\;">REGISTER <a href="http://us02web.zoom.us/meeting/register/tZIuc-qtrzwrHNeWFNcLvnwCHHr-NKOXFsEb">HERE</a></span></span><br />\n&nbsp\;</p>\n
LOCATION:VIA ZOOM REGISTER HERE
UID:e.1819.13944
SEQUENCE:3
DTSTAMP:20260421T074138Z
URL:https://members.lakeviewroscoevillage.org/events/details/coffee-commerce-08-19-2020-13944
END:VEVENT

END:VCALENDAR
