BEGIN:VCALENDAR
VERSION:2.0
PRODID:-//ChamberMaster//Event Calendar 2.0//EN
METHOD:PUBLISH
X-PUBLISHED-TTL:P3D
REFRESH-INTERVAL:P3D
CALSCALE:GREGORIAN
BEGIN:VEVENT
DTSTART:20200916T130000Z
DTEND:20200916T140000Z
X-MICROSOFT-CDO-ALLDAYEVENT:FALSE
SUMMARY:Coffee & Commerce
DESCRIPTION:Join us every month for our free morning networking mixer - now online - Coffee & Commerce! Whether you're looking to make new business connections or just want to exchange ideas with other small business owners\, Coffee & Commerce is the perfect opportunity to enhance your professional network. Come sip\, share and succeed at Coffee & Commerce\, the third Wednesday of every month.\n\n\n\nThis event is hosted by the Lakeview Chamber in partnership with the Small Business Advocacy Council\,   the Lincoln Park Chamber\, and the Roscoe Village Chamber of Commerce.\n\n\n\nThis month's Coffee & Commerce will focus around Managing Your Business During Evolving COVID-19 Guidelines. Join us to network and discuss ways fellow businesses have been forging their way through ever-changing coronavirus regulations.\n\n\n\nRegister HERE
X-ALT-DESC;FMTTYPE=text/html:<span style="background:white\;"><span style="color:#222222\;">Join us every month for our free morning networking mixer - now online - Coffee &amp\; Commerce! Whether you&#39\;re looking to make new business connections or just want to exchange ideas with other small business owners\, Coffee &amp\; Commerce is the perfect opportunity to enhance your professional network. Come sip\, share and succeed at Coffee &amp\; Commerce\, the third Wednesday of every month.</span></span><br />\n<br />\n<span style="background:white\;"><span style="color:#222222\;">This event is hosted by the Lakeview Chamber in partnership with the Small Business Advocacy Council\,&nbsp\; &nbsp\;the Lincoln Park Chamber\, and the Roscoe Village Chamber of Commerce.</span></span><br />\n<br />\nThis month&#39\;s Coffee &amp\; Commerce will focus around Managing Your Business During Evolving COVID-19 Guidelines. Join us to network and discuss ways fellow businesses have been forging their way through ever-changing coronavirus regulations.<br />\n<br />\nRegister <a href="https://us02web.zoom.us/meeting/register/tZItcOuppzssE934G-zUfzAhbqY35NcCUf3i">HERE</a>
LOCATION:VIA ZOOM REGISTER HERE
UID:e.1819.13945
SEQUENCE:3
DTSTAMP:20260422T061852Z
URL:https://members.lakeviewroscoevillage.org/events/details/coffee-commerce-09-16-2020-13945
END:VEVENT

END:VCALENDAR
