BEGIN:VCALENDAR
VERSION:2.0
PRODID:-//ChamberMaster//Event Calendar 2.0//EN
METHOD:PUBLISH
X-PUBLISHED-TTL:P3D
REFRESH-INTERVAL:P3D
CALSCALE:GREGORIAN
BEGIN:VEVENT
DTSTART:20160324T140000Z
DTEND:20160324T160000Z
X-MICROSOFT-CDO-ALLDAYEVENT:FALSE
SUMMARY:Coffee with a Lawyer: Consultations for Business Owners
DESCRIPTION:Lakeview Chamber member Mason Cole is a partner at a local downtown law firm.  Mr. Cole enjoys helping Chamber businesses grow their companies and navigate complex legal scenarios.  He can answer your questions regarding anything from labor & employment\, intellectual property\, vendor contracts\, and everything in between. Mr. Cole will be partnering with the Chamber to provide complimentary consultations on a variety of issues.  We provide the coffee\; you provide the questions. \n\n\n\nEmail info@lakeviewchamber.com to sign up!
X-ALT-DESC;FMTTYPE=text/html:<span style="line-height: 20.8px\;">Lakeview Chamber member Mason Cole is a partner at a local downtown law firm.&nbsp\; Mr. Cole enjoys helping Chamber businesses grow their companies and navigate complex legal scenarios.&nbsp\; He can answer your questions regarding anything from labor &amp\; employment\, intellectual property\, vendor contracts\, and everything in between. Mr. Cole will be partnering with the Chamber to provide complimentary consultations on a variety of issues.&nbsp\; We provide the coffee\; you provide the questions.&nbsp\;<br />\n<br />\nEmail info@lakeviewchamber.com to sign up!</span>
LOCATION:Lakeview Chamber Office 1409 W Addison
UID:e.1819.2860
SEQUENCE:3
DTSTAMP:20260422T152715Z
URL:https://members.lakeviewroscoevillage.org/events/details/coffee-with-a-lawyer-consultations-for-business-owners-03-24-2016-2860
END:VEVENT

END:VCALENDAR
