BEGIN:VCALENDAR
VERSION:2.0
PRODID:-//ChamberMaster//Event Calendar 2.0//EN
METHOD:PUBLISH
X-PUBLISHED-TTL:P3D
REFRESH-INTERVAL:P3D
CALSCALE:GREGORIAN
BEGIN:VEVENT
DTSTART:20160616T140000Z
DTEND:20160616T160000Z
X-MICROSOFT-CDO-ALLDAYEVENT:FALSE
SUMMARY:Coffee with a Lawyer: Consultations for Business Owners
DESCRIPTION:Are you a business owner with questions about employee medical leave\, employer provided healthcare\, lease negotiation\, partnership agreements\, HR legalities\, etc.? Lakeview Chamber member Cole Sadkin\, LLC is providing complimentary 30 min. consultations to help Lakeview businesses with their legal needs.\n\n \n\nContact Laine at lvitosh@lakeviewchamber.com to schedule your 30 min. consultation
X-ALT-DESC;FMTTYPE=text/html:Are you a business owner with questions about employee medical leave\, employer provided&nbsp\;healthcare\, lease negotiation\, partnership agreements\,&nbsp\;HR&nbsp\;legalities\, etc.?&nbsp\;Lakeview Chamber member&nbsp\;<a href="http://lakeviewchamber.us1.list-manage.com/track/click?u=f01a81569c999464978344ea0&amp\;id=b2d7b0ee2e&amp\;e=567107d6b8" target="_blank">Cole Sadkin\, LLC</a>&nbsp\;is providing complimentary 30 min. consultations to help Lakeview businesses with their legal needs.<br />\n&nbsp\;<br />\nContact Laine at&nbsp\;<a href="mailto:lvitosh@lakeviewchamber.com" target="_blank">lvitosh@lakeviewchamber.com</a><wbr />&nbsp\;to schedule your 30 min. consultation<br />\n&nbsp\;
LOCATION:Lakeview Chamber Office\, 1409 W Addison
UID:e.1819.2958
SEQUENCE:3
DTSTAMP:20260422T115131Z
URL:https://members.lakeviewroscoevillage.org/events/details/coffee-with-a-lawyer-consultations-for-business-owners-06-16-2016-2958
END:VEVENT

END:VCALENDAR
