BEGIN:VCALENDAR
VERSION:2.0
PRODID:-//ChamberMaster//Event Calendar 2.0//EN
METHOD:PUBLISH
X-PUBLISHED-TTL:P3D
REFRESH-INTERVAL:P3D
CALSCALE:GREGORIAN
BEGIN:VEVENT
DTSTART:20170406T140000Z
DTEND:20170406T160000Z
X-MICROSOFT-CDO-ALLDAYEVENT:FALSE
SUMMARY:Coffee with Cole Sadkin
DESCRIPTION:Join the Lakeview Chamber of Commerce for another Coffee with Cole Sadkin! Cole Sadkin\, LLC will be offering complimentary 30-minute consultations on Thursday\, April 6 from 9AM to 11AM to help Lakeview business owners with hiring employees.\n\nTo schedule your 30-minute consultation\, please contact Kimberly Morris at kimberly@lakeviewchamber.com
X-ALT-DESC;FMTTYPE=text/html:<span style="font-size: 12.8px\; font-family: arial\; vertical-align: baseline\; white-space: pre-wrap\;">Join the Lakeview Chamber of Commerce for another </span><span style="font-size: 12.8px\; font-family: arial\; font-style: italic\; vertical-align: baseline\; white-space: pre-wrap\;">Coffee with Cole Sadkin</span><span style="font-size: 12.8px\; font-family: arial\; vertical-align: baseline\; white-space: pre-wrap\;">! </span><a data-saferedirecturl="https://www.google.com/url?hl=en&amp\;q=http://colesadkin.com/&amp\;source=gmail&amp\;ust=1489505168143000&amp\;usg=AFQjCNGPLeBbTfpnu1SC_ONwm_B8HfKYyQ" href="http://colesadkin.com/" style="color: rgb(17\, 85\, 204)\; font-family: arial\, sans-serif\; font-size: 12.8px\; background-color: rgb(255\, 255\, 255)\; text-decoration: none\;" target="_blank"><span style="font-family: arial\; background-color: transparent\; text-decoration: underline\; vertical-align: baseline\; white-space: pre-wrap\;">Cole Sadkin\, LLC</span></a><span style="font-size: 12.8px\; font-family: arial\; vertical-align: baseline\; white-space: pre-wrap\;"> will be offering complimentary 30-minute consultations on <span class="aBn" data-term="goog_446412864" style="border-bottom: 1px dashed rgb(204\, 204\, 204)\; position: relative\; top: -2px\; z-index: 0\;" tabindex="0"><span class="aQJ" style="position: relative\; top: 2px\; z-index: -1\;">Thursday\, April 6 from 9AM to 11AM</span></span> to help Lakeview business owners with hiring employees.<br />\nTo schedule your 30-minute consultation\, please contact Kimberly Morris at kimberly@lakeviewchamber.com</span>
LOCATION:Lakeview Chamber of Commerce 1409 W. Addison
UID:e.1819.5005
SEQUENCE:3
DTSTAMP:20260419T220220Z
URL:https://members.lakeviewroscoevillage.org/events/details/coffee-with-cole-sadkin-04-06-2017-5005
END:VEVENT

END:VCALENDAR
