BEGIN:VCALENDAR
VERSION:2.0
PRODID:-//ChamberMaster//Event Calendar 2.0//EN
METHOD:PUBLISH
X-PUBLISHED-TTL:P3D
REFRESH-INTERVAL:P3D
CALSCALE:GREGORIAN
BEGIN:VEVENT
DTSTART:20150424T230000Z
DTEND:20150425T020000Z
X-MICROSOFT-CDO-ALLDAYEVENT:FALSE
SUMMARY:COMCAST CARES: Lakeview High School
DESCRIPTION:Big news! Comcast is providing supplies and over 200 workers for significant interior and exterior beautification at Lake View High School on Saturday\, April 25th\, 2015.\n\n\n\nhttps://www.eventbrite.com/e/comcast-cares-lakeview-high-school-tickets-16595643015\n\n\n\nTo prepare for this effort\, Lake View High School Partners needs your help. As many volunteers as possible are needed for simple prep work on Friday\, April 24th from 6:00 - 9:00 pm. You'll get all of the instruction and materials you'll need for the very light activities\, and you'll work alongside the rapidly growing and enthusiastic community of LVHS families and supporters.\n\nMost importantly\, you'll be part of the accelerated improvements at our neighborhood school. Food and fun included!\n\nPlease share this opportunity with your friends\, parents from local schools\, and your community organizations and networks. Together we can make a difference.\n\n\n\nhttps://www.eventbrite.com/e/comcast-cares-lakeview-high-school-tickets-16595643015\n\n\n \n\nPARTICIPATION OPTIONS:\n\n \n\nProject Volunteer: \n\n-  Able to help with distribution of supplies\n\n- "Taping" (Taping walls\, floors and trim to prepare for painting)\n\n-  Light cleaning and organizing\n\n-  Availability 6:00pm - 9:00pm (Friday\, April 24th)\n\n \n\nProject Floor Manager:\n\n\n\n- Managing specific sections of project\n\n- Able to understand onjective and "coach" other volunteers on execution\n\n- Supervising the work until completion (extra hours of volunteering requested)\n\n- Organize and help with Project Volunteeer Tasks\n\n- Arrival at 5pm day of "prep-work" event (Friday\, April 24th)\n\n\n\nhttps://www.eventbrite.com/e/comcast-cares-lakeview-high-school-tickets-16595643015\n\n \n\nIf you have any questions\, please contact project manager\, Rob Rosmis @ 847-894-5058 or email\, RobRosmis@atproperties.com\n\n \n\n***If you cannot attened and you would like to contribute to the cause\, please DONATE to Lakeview High School Partners. 100% of the proceeds will fund the ongoing efforts to provide the best environment for the Students & Athletes of LVHS***\n\n \n\nThank you. Thank you. Thank you.
X-ALT-DESC;FMTTYPE=text/html:<div>\n<p><span style="font-size:medium">Big news! Comcast is providing supplies and over 200 workers for significant interior and exterior beautification at Lake View High School on Saturday\, April 25th\, 2015.</span><br />\n<br />\n<a href="https://www.eventbrite.com/e/comcast-cares-lakeview-high-school-tickets-16595643015"><span style="font-size:16px">https://www.eventbrite.com/e/comcast-cares-lakeview-high-school-tickets-16595643015</span></a><br />\n<br />\n<span style="font-size:medium\; line-height:1.6">To prepare for this effort\, Lake View High School Partners&nbsp\;needs your help.&nbsp\;</span><strong style="line-height:1.6">As many volunteers as possible</strong><span style="font-size:medium\; line-height:1.6">&nbsp\;are needed for simple prep work&nbsp\;on Friday\,&nbsp\;April 24th&nbsp\;from&nbsp\;6:00 - 9:00 pm.&nbsp\;</span><span style="font-family:helveticaneue\,helvetica neue\,helvetica\,arial\,lucida grande\,sans-serif\; line-height:1.6">You&#39\;ll get all of the instruction and materials you&#39\;ll need for the very light activities\, and you&#39\;ll work alongside the rapidly growing and enthusiastic community of LVHS families and supporters.</span></p>\n\n<p><span style="font-size:medium">Most importantly\, you&#39\;ll be part of the accelerated improvements at our neighborhood school. Food and fun included!</span></p>\n\n<p><span style="font-size:medium">Please share this opportunity with your friends\, parents from local schools\, and your community organizations and networks. Together we can make a difference.</span><br />\n<br />\n<a href="https://www.eventbrite.com/e/comcast-cares-lakeview-high-school-tickets-16595643015"><span style="font-size:16px">https://www.eventbrite.com/e/comcast-cares-lakeview-high-school-tickets-16595643015</span></a></p>\n</div>\n\n<div>&nbsp\;</div>\n\n<div><strong>PARTICIPATION OPTIONS:</strong></div>\n\n<div>&nbsp\;</div>\n\n<div><strong><u>Project Volunteer:&nbsp\;</u></strong></div>\n\n<div>- &nbsp\;Able to help with distribution of supplies</div>\n\n<div>- &quot\;Taping&quot\; (Taping walls\, floors and trim to prepare for painting)</div>\n\n<div>- &nbsp\;Light cleaning and organizing</div>\n\n<div>- &nbsp\;Availability 6:00pm - 9:00pm (Friday\, April 24th)</div>\n\n<div>&nbsp\;</div>\n\n<div><u><strong>Project Floor Manager:</strong></u></div>\n\n<div><br />\n- Managing specific sections of project</div>\n\n<div>- Able to understand onjective and &quot\;coach&quot\; other volunteers on execution</div>\n\n<div>- Supervising the work until completion (extra hours of volunteering requested)</div>\n\n<div>- Organize and help with Project Volunteeer Tasks</div>\n\n<div>- Arrival at 5pm day of &quot\;prep-work&quot\; event (Friday\, April 24th)<br />\n<br />\n<a href="https://www.eventbrite.com/e/comcast-cares-lakeview-high-school-tickets-16595643015"><span style="font-size:16px">https://www.eventbrite.com/e/comcast-cares-lakeview-high-school-tickets-16595643015</span></a></div>\n\n<div>&nbsp\;</div>\n\n<div>If you have any questions\, please contact project manager\, Rob Rosmis @ 847-894-5058 or email\, RobRosmis@atproperties.com</div>\n\n<div>&nbsp\;</div>\n\n<div>***If you cannot attened and you would like to contribute to the cause\, please DONATE to Lakeview High School Partners. 100% of the proceeds will fund the ongoing efforts to provide the best environment for the Students &amp\; Athletes of LVHS***</div>\n\n<div>&nbsp\;</div>\n\n<div>Thank you. Thank you. Thank you.</div>\n\n<div>&nbsp\;</div>\n\n<div>&nbsp\;</div>\n\n<div>&nbsp\;</div>\n
LOCATION:Lakeview High School - 4015 N. Ashland Ave. Chicago\, IL 60613
UID:e.1819.1553
SEQUENCE:3
DTSTAMP:20260423T113055Z
URL:https://members.lakeviewroscoevillage.org/events/details/comcast-cares-lakeview-high-school-04-24-2015-1553
END:VEVENT

END:VCALENDAR
