BEGIN:VCALENDAR
VERSION:2.0
PRODID:-//ChamberMaster//Event Calendar 2.0//EN
METHOD:PUBLISH
X-PUBLISHED-TTL:P3D
REFRESH-INTERVAL:P3D
CALSCALE:GREGORIAN
BEGIN:VEVENT
DTSTART:20161219T013000Z
DTEND:20161219T030000Z
X-MICROSOFT-CDO-ALLDAYEVENT:FALSE
SUMMARY:Community Renwal Chorus Presents To Certain Poor Sheperds - Winter Concert
DESCRIPTION:Ring in the holiday season as we explore musical tradition and contemporary reimaginings of the Christmas Story in To Certain Poor Shepherds. Saturday\, December 17\, 2016 @ 7:30PM Euclid Avenue United Methodist Church 405 S. Euclid Avenue Oak Park\, IL 60302 Street parking available Sunday\, December 18\, 2016 @ 7:30PM St. Alphonsus Church 1429 W. Wellington Avenue Chicago IL 60657 Paid parking behind the church or across the street to the south of the Athenaeum Theatre Under the direction of Brian Bloye\, To Certain Poor Shepherds combines voices with strings and percussion to continue CRC's mission "to promote and celebrate diversity\, equality\, peace and justice through music." Works by Charpentier and Schubert and carol arrangements from the Renaissance to Gospel offer thoughtful reflection on the nativity\, while beloved standbys like "It's the Most Wonderful Time of the Year" proclaim the joy of the season. Admission is $20 ($15 Senior Citizens and Students). Tickets can be purchased at the door. For additional information\, please visit www.crchorus.org.
X-ALT-DESC;FMTTYPE=text/html:Ring in the holiday season as we explore musical tradition and contemporary reimaginings of the Christmas Story in To Certain Poor Shepherds. Saturday\, December 17\, 2016 @ 7:30PM Euclid Avenue United Methodist Church 405 S. Euclid Avenue Oak Park\, IL 60302 Street parking available Sunday\, December 18\, 2016 @ 7:30PM St. Alphonsus Church 1429 W. Wellington Avenue Chicago IL 60657 Paid parking behind the church or across the street to the south of the Athenaeum Theatre Under the direction of Brian Bloye\, To Certain Poor Shepherds combines voices with strings and percussion to continue CRC&#39\;s mission &quot\;to promote and celebrate diversity\, equality\, peace and justice through music.&quot\; Works by Charpentier and Schubert and carol arrangements from the Renaissance to Gospel offer thoughtful reflection on the nativity\, while beloved standbys like &quot\;It&#39\;s the Most Wonderful Time of the Year&quot\; proclaim the joy of the season. Admission is $20 ($15 Senior Citizens and Students). Tickets can be purchased at the door. For additional information\, please visit www.crchorus.org.
LOCATION:St. Alphonsus Church 1429 W. Wellington Avenue Chicago IL 60657
UID:e.1819.4887
SEQUENCE:3
DTSTAMP:20260420T050109Z
URL:https://members.lakeviewroscoevillage.org/events/details/community-renwal-chorus-presents-to-certain-poor-sheperds-winter-concert-12-18-2016-4887
END:VEVENT

END:VCALENDAR
