BEGIN:VCALENDAR
VERSION:2.0
PRODID:-//ChamberMaster//Event Calendar 2.0//EN
METHOD:PUBLISH
X-PUBLISHED-TTL:P3D
REFRESH-INTERVAL:P3D
CALSCALE:GREGORIAN
BEGIN:VEVENT
DTSTART:20130824T143000Z
DTEND:20130824T173000Z
X-MICROSOFT-CDO-ALLDAYEVENT:FALSE
SUMMARY:Community Shredding Event
DESCRIPTION:Community Shredding Event hosted by State Representative Ann Williams and Senate President John J. Cullerton. Free event for residents and local businesses to shred and recycle old documents.\n\n\n\nFlyer
X-ALT-DESC;FMTTYPE=text/html:Community Shredding Event hosted by State Representative Ann Williams and Senate President John J. Cullerton. Free event for residents and local businesses to shred and recycle old documents.<br />\n<br />\n<a href="http://cloud.chambermaster.com/userfiles/UserFiles/chambers/1819/File/williamsshredday824.pdf">Flyer</a>
LOCATION:Saint Luke Church 1500 W. Belmont Ave
UID:e.1819.36
SEQUENCE:3
DTSTAMP:20260425T034243Z
URL:https://members.lakeviewroscoevillage.org/events/details/community-shredding-event-08-24-2013-36
END:VEVENT

END:VCALENDAR
