BEGIN:VCALENDAR
VERSION:2.0
PRODID:-//ChamberMaster//Event Calendar 2.0//EN
METHOD:PUBLISH
X-PUBLISHED-TTL:P3D
REFRESH-INTERVAL:P3D
CALSCALE:GREGORIAN
BEGIN:VEVENT
DTSTART:20160824T150000Z
DTEND:20160824T170000Z
X-MICROSOFT-CDO-ALLDAYEVENT:FALSE
SUMMARY:Complimentary Business Consultations
DESCRIPTION:Advisers from the Chicagoland Chamber of Commerce Small Business Development Center (SBDC) are ready to answer your business questions during monthly consultations at the Lakeview Chamber of Commerce office. SBDC advisers have real-world business management experience and are willing to help you with questions regarding topics such as business planning\, business management\, financial statement analysis\, cash flow management\, record-keeping\, bank financing\, exports and imports\, developing personnel policies\, marketing planning and product innovation. \n\nThe SBDC provides free\, confidential one-on-one advising for all stages of small business development including: Pre-venture assistance\, start up and established business services\, as well as advising on new products and initiatives.\n\n\n\nEmail info@lakeviewchamber.com to schedule your 30 min. consultation.
X-ALT-DESC;FMTTYPE=text/html:<p style="line-height: 20.8px\; font-family: Arial\, Verdana\, sans-serif\;">Advisers from&nbsp\;the&nbsp\;Chicagoland&nbsp\;Chamber of Commerce Small Business Development Center (SBDC) are ready to answer your business questions during monthly consultations at the Lakeview Chamber of Commerce office. SBDC advisers have real-world business management experience and are willing to help you with questions regarding topics such as business planning\, business management\, financial statement analysis\, cash flow management\, record-keeping\, bank financing\, exports and imports\, developing personnel policies\, marketing planning and product innovation.&nbsp\;</p>\n\n<p style="line-height: 20.8px\; font-family: Arial\, Verdana\, sans-serif\;">The&nbsp\;SBDC&nbsp\;provides free\, confidential one-on-one advising for all stages of small business development including: Pre-venture assistance\, start up and established business services\, as well as advising on new products and initiatives.<br />\n<br />\n<span style="line-height: 20.8px\;">Email info</span><span style="line-height: 20.8px\;">@lakeviewchamber.com</span><span style="line-height: 20.8px\;">&nbsp\;to schedule your 30 min. consultation.</span></p>\n
LOCATION:Lakeview Chamber of Commerce 1409 W Addison\, Chicago\, IL
UID:e.1819.2712
SEQUENCE:3
DTSTAMP:20260422T062157Z
URL:https://members.lakeviewroscoevillage.org/events/details/complimentary-business-consultations-08-24-2016-2712
END:VEVENT

END:VCALENDAR
