BEGIN:VCALENDAR
VERSION:2.0
PRODID:-//ChamberMaster//Event Calendar 2.0//EN
METHOD:PUBLISH
X-PUBLISHED-TTL:P3D
REFRESH-INTERVAL:P3D
CALSCALE:GREGORIAN
BEGIN:VEVENT
DTSTART:20151210T200000Z
DTEND:20151210T220000Z
X-MICROSOFT-CDO-ALLDAYEVENT:FALSE
SUMMARY:Complimentary Business Consultations
DESCRIPTION:Advisers at the Chicagoland Chamber of Commerce Small Business Development Center (SBDC) are ready to answer your business questions. Our advisers have real-world business management experience and are willing to help you with questions regarding topics such as business planning\, business management\, financial statement analysis\, cash flow management\, record-keeping\, bank financing\, exports and imports\, developing personnel policies\, marketing planning and product innovation. \n\nThe SBDC provides free\, confidential one-on-one advising for all stages of small business development including: Pre-venture assistance\, start up and established business services\, as well as advising on new products and initiatives.\n\n\n\nEmail Laine at lvitosh@lakeviewchamber.com to schedule your 30 min. consultation.
X-ALT-DESC;FMTTYPE=text/html:<p style="font-family: Arial\, Verdana\, sans-serif\; line-height: 20.8px\;">Advisers at the Chicagoland Chamber of Commerce Small Business Development Center (SBDC) are ready to answer your business questions. Our advisers have real-world business management experience and are willing to help you with questions regarding topics such as business planning\, business management\, financial statement analysis\, cash flow management\, record-keeping\, bank financing\, exports and imports\, developing personnel policies\, marketing planning and product innovation.&nbsp\;</p>\n\n<p style="font-family: Arial\, Verdana\, sans-serif\; line-height: 20.8px\;">The SBDC provides free\, confidential one-on-one advising for all stages of small business development including: Pre-venture assistance\, start up and established business services\, as well as advising on new products and initiatives.<br />\n<br />\n<span style="font-family: Arial\, Verdana\, sans-serif\; line-height: 20.8px\;">Email&nbsp\;</span>Laine<span style="font-family: Arial\, Verdana\, sans-serif\; line-height: 20.8px\;">&nbsp\;at&nbsp\;</span><a href="mailto:lvitosh@lakeviewchamber.com?subject=Joint%20Breakfast" style="font-family: Arial\, Verdana\, sans-serif\; line-height: 20.8px\;" target="_blank">lvitosh@lakeviewchamber.com</a><span style="font-family: Arial\, Verdana\, sans-serif\; line-height: 20.8px\;">&nbsp\;to schedule your 30 min. consultation.</span></p>\n
LOCATION:Lakeview Chamber of Commerce 1409 W Addison
UID:e.1819.2257
SEQUENCE:3
DTSTAMP:20260422T223417Z
URL:https://members.lakeviewroscoevillage.org/events/details/complimentary-business-consultations-12-10-2015-2257
END:VEVENT

END:VCALENDAR
