BEGIN:VCALENDAR
VERSION:2.0
PRODID:-//ChamberMaster//Event Calendar 2.0//EN
METHOD:PUBLISH
X-PUBLISHED-TTL:P3D
REFRESH-INTERVAL:P3D
CALSCALE:GREGORIAN
BEGIN:VEVENT
DTSTART:20131230T200000Z
DTEND:20131230T210000Z
X-MICROSOFT-CDO-ALLDAYEVENT:FALSE
SUMMARY:Concealed Carry Discussion with Business Owners
DESCRIPTION:Monday\, December 30   2 p.m. to 3 p.m. \n\n	19th District Police Station   Community Room   850 West Addison St. \n\n	On January 1\, 2014\, residents of Illinois will be legally allowed to carry concealed firearms in public if they meet certain qualifications. Many business owners have questions about what the new law means for them. P\n\n	\n\n	lease join Rep. Sara Feigenholtz\, Sen. John Cullerton\, Rep. Ann Williams and the Illinois Department Against Handgun Violence for a discussion focusing on what business owners need to know about the new concealed carry law.
X-ALT-DESC;FMTTYPE=text/html:<p align="LEFT">\n	&nbsp\;</p>\n<p align="CENTER">\n	<span style="font-size: 14px\;"><span style="font-family: arial\;"><b>Monday\, December 30 &bull\; 2 p.m. to 3 p.m. </b></span></span></p>\n<p align="CENTER">\n	<span style="font-size: 14px\;"><span style="font-family: arial\;"><b>19th District Police Station &bull\; Community Room &bull\; 850 West Addison St. </b></span></span></p>\n<p>\n	<font face="Century Gothic\,Century Gothic" size="3"><font face="Century Gothic\,Century Gothic" size="3">On January 1\, 2014\, residents of Illinois will be legally allowed to carry concealed firearms in public if they meet certain qualifications. Many </font></font><font face="Century Gothic\,Century Gothic" size="3"><font face="Century Gothic\,Century Gothic" size="3">business owners have questions about what the new law means for them. P<br />\n	<br />\n	lease join Rep. Sara Feigenholtz\, Sen. </font></font><font face="Century Gothic\,Century Gothic" size="3"><font face="Century Gothic\,Century Gothic" size="3">John Cullerton\, Rep. Ann Williams and the Illinois Department Against Handgun Violence for a discussion focusing on what business owners need to know about the new concealed carry law. </font></font></p>\n
LOCATION:19th District Police Station Community Room 850 West Addison St.
UID:e.1819.154
SEQUENCE:3
DTSTAMP:20260424T190206Z
URL:https://members.lakeviewroscoevillage.org/events/details/concealed-carry-discussion-with-business-owners-12-30-2013-154
END:VEVENT

END:VCALENDAR
