BEGIN:VCALENDAR
VERSION:2.0
PRODID:-//ChamberMaster//Event Calendar 2.0//EN
METHOD:PUBLISH
X-PUBLISHED-TTL:P3D
REFRESH-INTERVAL:P3D
CALSCALE:GREGORIAN
BEGIN:VEVENT
DTSTART:20140313T133000Z
DTEND:20140313T150000Z
X-MICROSOFT-CDO-ALLDAYEVENT:FALSE
SUMMARY:Concealed Carry Legislative Breakfast
DESCRIPTION:On January 1\, 2014\, Illinois' Concealed Carry Law went into affect.  Do you have all of the facts to keep your business and your employees safe?  Do you know your rights as a business owner?\n\nJoin us for a legislative breakfast where a panel of experts will discuss the law and how it applies to your business.\n\nPanelists include:\n\nGrant Peters\, Barnes & Thornbourg\n\n Brandon Nemec\, Assistant State's Attorney\, Legislative Unit & Criminal Appeals Division \n\nCo-Hosted by:\n\nSenate President John Cullerton * State Rep Ann Williams * State Rep Sara Feigenholtz\n\nLakeview East Chamber of Commerce * SBAC * Lakeview Chamber of Commerce\n\nThursday | March 13\, 2014\n\n$25 Members & Guests\n\n$40 Non-Members\n\n8:30 Registration & Networking\n\n9:00 Program & Panel\n\n\n\nClick for Flyer
X-ALT-DESC;FMTTYPE=text/html:<p><strong>On January 1\, 2014\, Illinois&#39\; Concealed Carry Law went into affect. &nbsp\;Do you have all of the facts to keep your business and your employees safe? &nbsp\;Do you know your rights as a business owner?</strong></p>\n\n<p>Join us for a legislative breakfast where a panel of experts will discuss the law and how it applies to your business.</p>\n\n<p>Panelists include:</p>\n\n<p><a href="http://www.btlaw.com/grant-h-peters/">Grant Peters\,</a> Barnes &amp\; Thornbourg<br />\n&#8203\;Brandon Nemec\, Assistant State&#39\;s Attorney\, Legislative Unit &amp\; Criminal Appeals Division&nbsp\;</p>\n\n<p>Co-Hosted by:</p>\n\n<p>Senate President John Cullerton *&nbsp\;<span style="line-height: 1.6em\;">State Rep Ann Williams *&nbsp\;</span><span style="line-height: 1.6em\;">State Rep Sara Feigenholtz</span></p>\n\n<p>Lakeview East Chamber of Commerce * SBAC * Lakeview Chamber of Commerce</p>\n\n<p>Thursday | March 13\, 2014</p>\n\n<p>$25 Members &amp\; Guests</p>\n\n<p>$40 Non-Members</p>\n\n<p>8:30 Registration &amp\; Networking</p>\n\n<p>9:00 Program &amp\; Panel<br />\n<br />\n<a href="http://cloud.chambermaster.com/userfiles/UserFiles/chambers/1819/File/TheIllinoisConcealedCarryLaw.pdf">Click for Flyer</a><br />\n<br />\n<br />\n&nbsp\;</p>\n
LOCATION:Presence Saint Joseph Hospital 2900 N Lake Shore Dr 2nd Floor Conference Room Chicago\, IL 60657
UID:e.1819.209
SEQUENCE:3
DTSTAMP:20260424T135251Z
URL:https://members.lakeviewroscoevillage.org/events/details/concealed-carry-legislative-breakfast-03-13-2014-209
END:VEVENT

END:VCALENDAR
