BEGIN:VCALENDAR
VERSION:2.0
PRODID:-//ChamberMaster//Event Calendar 2.0//EN
METHOD:PUBLISH
X-PUBLISHED-TTL:P3D
REFRESH-INTERVAL:P3D
CALSCALE:GREGORIAN
BEGIN:VEVENT
DTSTART:20170517T153000Z
DTEND:20170517T163000Z
X-MICROSOFT-CDO-ALLDAYEVENT:FALSE
SUMMARY:Concerts for Kids with Tricia Sebastian
DESCRIPTION:Spring into the season with these action-packed shows for families with\n\nchildren of all ages. Musician's CDs are for sale after most shows\n\nor visit ww.cdbaby.com to download songs or an album.\n\nThis free music series is generously supported by the West Lakeview Neighbors www.wlvn.org. These are drop-in events\, pre-registration is not required\, join us whenever you can. Questions? Send an e-mail to Gwen or Mary at LBreaders99@gmail.com
X-ALT-DESC;FMTTYPE=text/html:<span style="font-size:14px\;"><span style="font-family:tahoma\;"><span style="color:black\;">Spring into the season with these action-packed shows for families with</span><br />\n<span style="color:black\;">children of all ages. Musician&rsquo\;s CDs are for sale after most shows</span></span></span><br />\n<span style="color:black\;"><span style="font-size:14px\;"><span style="font-family:tahoma\;">or visit ww.cdbaby.com to download songs or an album.</span></span><br />\n<span style="font-size:14px\;"><span style="font-family:tahoma\;">This free music series is generously supported by the </span></span></span><span style="font-size:14px\;"><span style="font-family:tahoma\;"><strong><span style="color:black\;">West Lakeview Neighbors</span></strong><span style="color:black\;"> www.wlvn.org.&nbsp\;</span><span style="color:black\;">These are drop-in events\, pre-registration is not required\, join us whenever you can.&nbsp\;</span><span style="color:black\;">Questions? Send an e-mail to Gwen or Mary at LBreaders99@gmail.com</span></span></span><br />\n&nbsp\;
LOCATION:Belmont Lincoln Library 1659 W Melrose St Chicago\, IL 60657
UID:e.1819.5031
SEQUENCE:3
DTSTAMP:20260419T202713Z
URL:https://members.lakeviewroscoevillage.org/events/details/concerts-for-kids-with-tricia-sebastian-05-17-2017-5031
END:VEVENT

END:VCALENDAR
