BEGIN:VCALENDAR
VERSION:2.0
PRODID:-//ChamberMaster//Event Calendar 2.0//EN
METHOD:PUBLISH
X-PUBLISHED-TTL:P3D
REFRESH-INTERVAL:P3D
CALSCALE:GREGORIAN
BEGIN:VEVENT
DTSTART:20160512T233000Z
DTEND:20160513T010000Z
X-MICROSOFT-CDO-ALLDAYEVENT:FALSE
SUMMARY:Condo Smarts Workshop
DESCRIPTION:Join us on May 12th at 6:30pm to find out how your condo association can be managed more effectively.\n\nExperts will deliver quick presentations with actionable steps that you can use immediately to improve your condo management and cut costs.\n\n \n\nTopics include:\n\nIllinois Condo Law + Legal Advice\n\nCommon Accounting + Cash Flow Issues\n\nGarbage/Recycling Ordinances + Contract Language\n\nCondo Selling + Leasing Best Practices
X-ALT-DESC;FMTTYPE=text/html:Join us on May 12th at 6:30pm to find out how your condo association can be managed more effectively.<br />\nExperts will deliver quick presentations with actionable steps that you can use immediately to improve your condo management and cut costs.<br />\n&nbsp\;<br />\nTopics include:<br />\nIllinois Condo Law + Legal Advice<br />\nCommon Accounting + Cash Flow Issues<br />\nGarbage/Recycling Ordinances + Contract Language<br />\nCondo Selling + Leasing Best Practices
LOCATION:The Shift - 4101 N. Broadway St. Chicago\, IL 60613
UID:e.1819.2894
SEQUENCE:3
DTSTAMP:20260422T114348Z
URL:https://members.lakeviewroscoevillage.org/events/details/condo-smarts-workshop-05-12-2016-2894
END:VEVENT

END:VCALENDAR
