BEGIN:VCALENDAR
VERSION:2.0
PRODID:-//ChamberMaster//Event Calendar 2.0//EN
METHOD:PUBLISH
X-PUBLISHED-TTL:P3D
REFRESH-INTERVAL:P3D
CALSCALE:GREGORIAN
BEGIN:VEVENT
DTSTART;VALUE=DATE:20140309
DTEND;VALUE=DATE:20140313
TRANSP:TRANSPARENT
X-MICROSOFT-CDO-ALLDAYEVENT:TRUE
SUMMARY:Coriolanus at The Music Box Theatre
DESCRIPTION:When an old adversary threatens Rome\, the city calls once more on her hero and defender: Coriolanus. But he has enemies at home too. Famine threatens the city\, the citizens' hunger swells to an appetite for change\, and on returning from the field Coriolanus must confront the march of realpolitik and the voice of an angry people.
X-ALT-DESC;FMTTYPE=text/html:<span style="font-family:helvetica\,sans-serif\;"><span style="font-size:9.0pt\;">When an old adversary threatens Rome\, the city calls once more on her hero and defender: Coriolanus. But he has enemies at home too. Famine threatens the city\, the citizens&rsquo\; hunger swells to an appetite for change\, and on returning from the field Coriolanus must confront the march of realpolitik and the voice of an angry people.</span></span>
LOCATION:Music Box Theatre 3733 N. Southport Ave. Chicago\, IL 60613
UID:e.1819.229
SEQUENCE:3
DTSTAMP:20260424T140655Z
URL:https://members.lakeviewroscoevillage.org/events/details/coriolanus-at-the-music-box-theatre-03-09-2014-229
END:VEVENT

END:VCALENDAR
