BEGIN:VCALENDAR
VERSION:2.0
PRODID:-//ChamberMaster//Event Calendar 2.0//EN
METHOD:PUBLISH
X-PUBLISHED-TTL:P3D
REFRESH-INTERVAL:P3D
CALSCALE:GREGORIAN
BEGIN:VEVENT
DTSTART:20150509T170500Z
DTEND:20150510T020000Z
X-MICROSOFT-CDO-ALLDAYEVENT:FALSE
SUMMARY:Cover Your Bases 2015 Baseball-Themed Pub Crawl
DESCRIPTION:Festa Parties presents COVER YOUR BASES 2015 (#CYB2015) - Our 7th Annual Baseball-Themed\, Sticker-Collecting Pub Crawl in Wrigleyville\, Chicago. Taking place on Saturday\, May 9\, a Cubs Away Day\, #CYB2015 will begin and end at Murphy's Bleachers\, making 11 stops in 17 Wrigley Bars\, where participants will collect baseball stickers to fill out their souvenir baseball-diamond t-shirt and "cover their bases" with a prize drawing for those who collect all 11. In addition\, the day will feature a photo scavenger hunt\, a series of Cubs vs Sox Fans contests\, and ending Karaoke party. It's a full day of Baseball Fun!
X-ALT-DESC;FMTTYPE=text/html:Festa Parties presents COVER YOUR BASES 2015 (#CYB2015) - Our 7th Annual Baseball-Themed\, Sticker-Collecting Pub Crawl in Wrigleyville\, Chicago. Taking place on Saturday\, May 9\, a Cubs Away Day\, #CYB2015 will begin and end at Murphy&#39\;s Bleachers\, making 11 stops in 17 Wrigley Bars\, where participants will collect baseball stickers to fill out their souvenir baseball-diamond t-shirt and &quot\;cover their bases&quot\; with a prize drawing for those who collect all 11. In addition\, the day will feature a photo scavenger hunt\, a series of Cubs vs Sox Fans contests\, and ending Karaoke party. It&#39\;s a full day of Baseball Fun!
LOCATION:Starts and Ends at Murphy's Bleachers\, 3655 North Sheffield\, and includes other venues such as Moe's Cantina\, Bernie's\, John Barleycorn\, Sports Corner\, Vines\, Casey Moran's\, Full Shilling\, and More.
UID:e.1819.1552
SEQUENCE:3
DTSTAMP:20260423T093709Z
URL:https://members.lakeviewroscoevillage.org/events/details/cover-your-bases-2015-baseball-themed-pub-crawl-05-09-2015-1552
END:VEVENT

END:VCALENDAR
