BEGIN:VCALENDAR
VERSION:2.0
PRODID:-//ChamberMaster//Event Calendar 2.0//EN
METHOD:PUBLISH
X-PUBLISHED-TTL:P3D
REFRESH-INTERVAL:P3D
CALSCALE:GREGORIAN
BEGIN:VEVENT
DTSTART:20131031T230000Z
DTEND:20131101T010000Z
X-MICROSOFT-CDO-ALLDAYEVENT:FALSE
SUMMARY:Creature Double Feature
DESCRIPTION:Written and Directed by Mark Dodge\n\n	Stage Managed by Krysten Williams\n\n	 \n\n	 \n\n	Professor Evil is back in these back  to-back 45 min original Halloween stories!\n\n	\n\n	- Professor Evil's Bedtime Stories for Zombies! \n\n	 The "bad" professor has developed a process to make the undead do his bidding but first he must buy time to complete his powerful zombie controlling device before the brain munching hoards get out of control. With the help if his assistant\, he holds back the zombie's hunger with stories of terror\, mystery\, magic and some groovy dancing!\n\n	 \n\n	-Professor Evil vs. Nosferatu!\n\n	The king of the vampires has gotten rotten wind of Professor Evil's attempt to control zombies and will have none of this attempt to control the undead! With his three nephews\, Klatu\, Verata and Nikto\, he unleashes a mystical force to rival Professor Evil's powerful "schmience!" It's a showdown destined to go down in Halloween horror history! \n\n	 \n\n	Fun for children and adults alike!\n\n	 \n\n	"Director and playwright Mark Dodge finds a good balance of satire\, spoof\, and just enough scary to please audiences of all ages who want to get into the Halloween mood."  Chicago Theatre Beat
X-ALT-DESC;FMTTYPE=text/html:<p class="Wp-Normal-P">\n	<span class="Normal-C-C5"><font face="Trebuchet MS">Written and Directed by Mark Dodge</font></span><br />\n	<span class="Normal-C-C5"><font face="Trebuchet MS">Stage Managed by Krysten Williams</font></span></p>\n<p class="Wp-Normal-P">\n	&nbsp\;</p>\n<p class="Wp-Normal-P">\n	<span class="Normal-C-C5">&nbsp\;</span></p>\n<p class="Wp-Normal-P">\n	<span class="Normal-C-C5"><font face="Trebuchet MS">Professor Evil is back in these back &ndash\;to-back 45 min original Halloween stories!<br />\n	<br />\n	<font size="5"><font face="Garamond"><span class="Normal-C-C7"><strong><em>- Professor Evil&rsquo\;s Bedtime Stories for Zombies!</em></strong></span><span class="Normal-C-C6"> </span></font></font></font></span></p>\n<p class="Wp-Normal-P">\n	<span class="Normal-C-C5"><font face="Trebuchet MS"><span class="Normal-C-C5"><font face="Trebuchet MS">&nbsp\;The &ldquo\;bad&rdquo\; professor has developed a process to make the undead do his bidding but first he must buy time to complete his powerful zombie controlling device before the brain munching hoards get out of control. With the help if his assistant\, he holds back the zombie&rsquo\;s hunger with stories of terror\, mystery\, magic and some groovy dancing!</font></span></font></span></p>\n<p class="Wp-Normal-P">\n	&nbsp\;</p>\n<p class="Wp-Normal-P">\n	<span class="Normal-C-C5"><font face="Trebuchet MS"><span class="Normal-C-C7"><strong><em><font face="Garamond" size="5">-Professor Evil vs. Nosferatu!</font></em></strong></span></font></span></p>\n<p class="Wp-Normal-P">\n	<span class="Normal-C-C5"><font face="Trebuchet MS"><span class="Normal-C-C5"><font face="Trebuchet MS">The king of the vampires has gotten rotten wind of Professor Evil&rsquo\;s attempt to control zombies and will have none of this attempt to control the undead! With his three nephews\, Klatu\, Verata and Nikto\, he unleashes a mystical force to rival Professor Evil&rsquo\;s powerful &ldquo\;schmience!&rdquo\; It&rsquo\;s a showdown destined to go down in Halloween horror history! </font></span></font></span></p>\n<p class="Wp-Normal-P">\n	&nbsp\;</p>\n<p class="Wp-Normal-P">\n	<span class="Normal-C-C5"><font face="Trebuchet MS"><span class="Normal-C-C5"><font face="Trebuchet MS">Fun for children and adults alike!</font></span></font></span></p>\n<p class="Wp-Normal-P">\n	&nbsp\;</p>\n<p class="Wp-Normal-P">\n	<span class="Normal-C-C5"><font face="Trebuchet MS"><strong><em><font face="Trebuchet MS"><span class="Normal-C-C8">&ldquo\;Director and playwright </span><span class="Hyperlink-C"><u>Mark Dodge</u></span><span class="apple-converted-space-C">&nbsp\;finds a good balance of satire\, spoof\, and just enough scary to please audiences of all ages who want to get into the Halloween mood.&rdquo\; &ndash\;Chicago Theatre Beat</span></font></em></strong></font></span></p>\n<p class="Wp-Normal-P">\n	<span class="Normal-C-C5">&nbsp\;</span></p>\n<p class="Wp-Normal-P">\n	&nbsp\;</p>\n
LOCATION:Chase Park 4701 N. Ashland Ave\, Chicago\, IL 60640
UID:e.1819.106
SEQUENCE:3
DTSTAMP:20260424T224129Z
URL:https://members.lakeviewroscoevillage.org/events/details/creature-double-feature-10-31-2013-106
END:VEVENT

END:VCALENDAR
