BEGIN:VCALENDAR
VERSION:2.0
PRODID:-//ChamberMaster//Event Calendar 2.0//EN
METHOD:PUBLISH
X-PUBLISHED-TTL:P3D
REFRESH-INTERVAL:P3D
CALSCALE:GREGORIAN
BEGIN:VEVENT
DTSTART:20151212T180000Z
DTEND:20151212T200000Z
X-MICROSOFT-CDO-ALLDAYEVENT:FALSE
SUMMARY:CrossTown Fitness Ribbon Cutting & Grand Opening
DESCRIPTION:Join the Lakeview Chamber\, Northalsted Business Alliance and Lakeview East Chamber as we welcome CrossTown Fitness to Lakeview!\n\n\n\nThe celebration will kick off with a ribbon cutting ceremony followed by tours\, food and drinks.
X-ALT-DESC;FMTTYPE=text/html:Join the Lakeview Chamber\, Northalsted Business Alliance and Lakeview East Chamber as we welcome CrossTown&nbsp\;Fitness&nbsp\;to Lakeview!<br />\n<br />\nThe celebration will kick off with a ribbon cutting ceremony followed by tours\, food and drinks.
LOCATION:CrossTown Fitness North Side 3600 N Halsted St
UID:e.1819.2256
SEQUENCE:3
DTSTAMP:20260422T223955Z
URL:https://members.lakeviewroscoevillage.org/events/details/crosstown-fitness-ribbon-cutting-grand-opening-12-12-2015-2256
END:VEVENT

END:VCALENDAR
