BEGIN:VCALENDAR
VERSION:2.0
PRODID:-//ChamberMaster//Event Calendar 2.0//EN
METHOD:PUBLISH
X-PUBLISHED-TTL:P3D
REFRESH-INTERVAL:P3D
CALSCALE:GREGORIAN
BEGIN:VEVENT
DTSTART:20140404T140000Z
DTEND:20140404T210000Z
X-MICROSOFT-CDO-ALLDAYEVENT:FALSE
SUMMARY:Cubs Home Opener Package Deal!
DESCRIPTION:Chicago Cubs Home Opener\n\nFree Hot Dogs and Chili Pre-game\n\nTicket to the Game- 1st Base Side Under the Mezzanine\n\nOne Hour Post Party 30 Minutes After the Game is Over
X-ALT-DESC;FMTTYPE=text/html:<p><span class="vevent"><span class="description">Chicago Cubs Home Opener</span></span></p>\n\n<p><span class="vevent"><span class="description">Free Hot Dogs and Chili Pre-game</span></span></p>\n\n<p><span class="vevent"><span class="description">Ticket to the Game- 1st Base Side Under the Mezzanine</span></span></p>\n\n<p><span class="vevent"><span class="description">One Hour Post Party 30 Minutes After the Game is Over</span></span></p>\n
LOCATION:Wheelhouse 3553 N. Southport Ave Chicago\, IL 60657
UID:e.1819.248
SEQUENCE:3
DTSTAMP:20260424T134944Z
URL:https://members.lakeviewroscoevillage.org/events/details/cubs-home-opener-package-deal-04-04-2014-248
END:VEVENT

END:VCALENDAR
