BEGIN:VCALENDAR
VERSION:2.0
PRODID:-//ChamberMaster//Event Calendar 2.0//EN
METHOD:PUBLISH
X-PUBLISHED-TTL:P3D
REFRESH-INTERVAL:P3D
CALSCALE:GREGORIAN
BEGIN:VEVENT
DTSTART:20160609T213000Z
DTEND:20160610T010000Z
X-MICROSOFT-CDO-ALLDAYEVENT:FALSE
SUMMARY:d'aprile properties Ribbon Cutting
DESCRIPTION:d'aprile properties is a full service real estate company that serves clients throughout the Midwest with offices in Illinois\, Indiana\, Michigan and Wisconsin. We pride ourselves on being the go-to experts for real estate throughout the Great Lakes region.  But our foundation lies among the myriad of individual neighborhoods that make up the great city of Chicago. \n\n\n\nThat is why we at d'aprile are proud to announce the opening of our newest office location in the heart of Lakeview!  Sitting a few doors down from where Lincoln\, Greenview\, and Barry intersect\, our new office provides a more localized vantage point for our agents to better serve their Northside clients. \n\n\n\nWhatever brings you to Lakeview   a desire to visit historical Wrigley Field or the bustling shops and restaurants of the Southport Corridor - be sure and stop by d'aprile properties to say hello. \n\n\n\nWe're so proud to call this amazing community home!\n\n\n\n- d'aprile properties Lakeview is located at 3062 N. Lincoln Ave.
X-ALT-DESC;FMTTYPE=text/html:d&rsquo\;aprile properties is a full service real estate company that serves clients throughout the&nbsp\;Midwest with offices in Illinois\, Indiana\, Michigan and Wisconsin. We pride ourselves on being&nbsp\;the go-to experts for real estate throughout the Great Lakes region. &nbsp\;But our foundation lies&nbsp\;among the myriad of individual neighborhoods that make up the great city of Chicago.&nbsp\;<br />\n<br />\nThat is why we at d&rsquo\;aprile are proud to announce the opening of our newest office location in&nbsp\;the heart of Lakeview! &nbsp\;Sitting a few doors down from where Lincoln\, Greenview\, and Barry&nbsp\;intersect\, our new office provides a more localized vantage point for our agents to better serve&nbsp\;their Northside clients.&nbsp\;<br />\n<br />\nWhatever brings you to Lakeview &ndash\; a desire to visit historical Wrigley Field or the bustling shops&nbsp\;and restaurants of the Southport Corridor - be sure and stop by d&rsquo\;aprile properties to say hello.&nbsp\;<br />\n<br />\nWe&rsquo\;re so proud to call this amazing community home!<br />\n<br />\n- d&rsquo\;aprile properties Lakeview is located at 3062 N. Lincoln Ave.
LOCATION:3062 N Lincoln Ave
UID:e.1819.2957
SEQUENCE:3
DTSTAMP:20260422T114924Z
URL:https://members.lakeviewroscoevillage.org/events/details/d-aprile-properties-ribbon-cutting-06-09-2016-2957
END:VEVENT

END:VCALENDAR
