BEGIN:VCALENDAR
VERSION:2.0
PRODID:-//ChamberMaster//Event Calendar 2.0//EN
METHOD:PUBLISH
X-PUBLISHED-TTL:P3D
REFRESH-INTERVAL:P3D
CALSCALE:GREGORIAN
BEGIN:VEVENT
DTSTART;VALUE=DATE:20141208
DTEND;VALUE=DATE:20141210
TRANSP:TRANSPARENT
X-MICROSOFT-CDO-ALLDAYEVENT:TRUE
SUMMARY:DavidsTea Friends & Family Day
DESCRIPTION:Friends & Family 30% off just for you
X-ALT-DESC;FMTTYPE=text/html:Friends &amp\; Family 30% off just for you
LOCATION:DAVIDsTea 3530 N Southport Ave
UID:e.1819.1326
SEQUENCE:3
DTSTAMP:20260423T190320Z
URL:https://members.lakeviewroscoevillage.org/events/details/davidstea-friends-family-day-12-08-2014-1326
END:VEVENT

END:VCALENDAR
