BEGIN:VCALENDAR
VERSION:2.0
PRODID:-//ChamberMaster//Event Calendar 2.0//EN
METHOD:PUBLISH
X-PUBLISHED-TTL:P3D
REFRESH-INTERVAL:P3D
CALSCALE:GREGORIAN
BEGIN:VEVENT
DTSTART:20140123T000000Z
DTEND:20140123T010000Z
X-MICROSOFT-CDO-ALLDAYEVENT:FALSE
SUMMARY:Detox Workshop at Suvarna Chiropractic
DESCRIPTION:Join us for a free workshop to find out more about our clinically evaluated metabolic detoxification program.\n\n\n\nGet a healthy start to 2014!\n\nA buildup of toxins may be making you feel run-down.\n\n  Chemicals and other potentially harmful substances are in almost everything we breathe\, eat\, drink\, or touch.\n\n  Unhealthy lifestyle habits\, such as a poor diet and lack of regular exercise\, can negatively affect the body's detoxification processes.\n\n  Excess toxin exposure can lead to seemingly unrelated symptoms: fatigue\, malaise\, irritability\, mood swings\, bloating\, insomnia\, headaches\, and muscle/joint aches and pains.\n\n\n\nA metabolic detoxification program can help\n\n  Detoxification activities are driven by nutrients: proteins\, carbohydrates\, fats\, vitamins\, minerals\, and phytonutrients.\n\n  While juice or water fasts may give your digestive system a break\, they do little to fuel detoxification activities adequately\, and may trigger the body to store unhealthy fat.\n\n  And some detoxification supplements may contain ingredients that lack adequate scientific support or safe history of use\, or are not designed to promote balanced detoxification activities
X-ALT-DESC;FMTTYPE=text/html:Join us for a free workshop to find out more about our clinically evaluated metabolic detoxification program.<br />\n<br />\nGet a h<span class="text_exposed_show">ealthy start to 2014!<br />\nA buildup of toxins may be making you feel run-down.<br />\n&bull\; Chemicals and other potentially harmful substances are in almost everything we breathe\, eat\, drink\, or touch.<br />\n&bull\; Unhealthy lifestyle habits\, such as a poor diet and lack of regular exercise\, can negatively affect the body&#39\;s detoxification processes.<br />\n&bull\; Excess toxin exposure can lead to seemingly unrelated symptoms: fatigue\, malaise\, irritability\, mood swings\, bloating\, insomnia\, headaches\, and muscle/joint aches and pains.<br />\n<br />\nA metabolic detoxification program can help<br />\n&bull\; Detoxification activities are driven by nutrients: proteins\, carbohydrates\, fats\, vitamins\, minerals\, and phytonutrients.<br />\n&bull\; While juice or water fasts may give your digestive system a break\, they do little to fuel detoxification activities adequately\, and may trigger the body to store unhealthy fat.<br />\n&bull\; And some detoxification supplements may contain ingredients that lack adequate scientific support or safe history of use\, or are not designed to promote balanced detoxification activities</span><br />\n<br />\n
LOCATION:Suvarna Chiropractic 3453 N. Southport Chicago\, IL 60613
UID:e.1819.179
SEQUENCE:3
DTSTAMP:20260424T172855Z
URL:https://members.lakeviewroscoevillage.org/events/details/detox-workshop-at-suvarna-chiropractic-01-22-2014-179
END:VEVENT

END:VCALENDAR
