BEGIN:VCALENDAR
VERSION:2.0
PRODID:-//ChamberMaster//Event Calendar 2.0//EN
METHOD:PUBLISH
X-PUBLISHED-TTL:P3D
REFRESH-INTERVAL:P3D
CALSCALE:GREGORIAN
BEGIN:VEVENT
DTSTART:20170307T003000Z
DTEND:20170307T020000Z
X-MICROSOFT-CDO-ALLDAYEVENT:FALSE
SUMMARY:Development Open House: Southport/Wellington
DESCRIPTION:Learn and share feedback about development plans for 1356 W Wellington and 3015 N Southport. Springbank Capital Advisors invites the community to an open house meeting on March 6\, 2017\, from 6:30pm to 8:00pm at the Athenaeum Theater (2936 N Southport) to see their new design plans and speak directly with the development team.
X-ALT-DESC;FMTTYPE=text/html:Learn and share feedback about development plans for 1356 W Wellington and 3015 N Southport. Springbank Capital Advisors invites the community to an open house meeting on March 6\, 2017\, from 6:30pm to 8:00pm at the Athenaeum Theater (2936 N Southport) to see their new design plans and speak directly with the development team.
LOCATION:
UID:e.1819.5002
SEQUENCE:3
DTSTAMP:20260419T235705Z
URL:https://members.lakeviewroscoevillage.org/events/details/development-open-house-southport-wellington-03-06-2017-5002
END:VEVENT

END:VCALENDAR
