BEGIN:VCALENDAR
VERSION:2.0
PRODID:-//ChamberMaster//Event Calendar 2.0//EN
METHOD:PUBLISH
X-PUBLISHED-TTL:P3D
REFRESH-INTERVAL:P3D
CALSCALE:GREGORIAN
BEGIN:VEVENT
DTSTART:20180101T020000Z
DTEND:20180101T070000Z
X-MICROSOFT-CDO-ALLDAYEVENT:FALSE
SUMMARY:Diag Bar & Grill New Years Eve
DESCRIPTION:Ring in a roaring good year at Diag! The DJ will play all your favorite tunes until the clock strikes 12 and we sip champagne ringing in the New Year! Exclusive Guest List\, Passed Hors D'oeuvres\, Premium Drink Package\, Champagne\, 2018 Party Favors\, Midnight Countdown\, Video DJ\, Private Tables & Rooms
X-ALT-DESC;FMTTYPE=text/html:<span style="color: rgb(68\, 68\, 68)\; font-family: &quot\;Helvetica Neue&quot\;\, HelveticaNeue\, Helvetica\, Arial\, sans-serif\; font-size: 14px\;">Ring in a roaring good year at Diag! The DJ will play all your favorite tunes until the clock strikes 12 and we sip champagne ringing in the New Year! Exclusive Guest List\, Passed Hors D&#39\;oeuvres\, Premium Drink Package\, Champagne\, 2018 Party Favors\, Midnight Countdown\, Video DJ\, Private Tables &amp\; Rooms&nbsp\;</span>
LOCATION:Diag Bar & Grill 286 N Southport Ave
UID:e.1819.11222
SEQUENCE:3
DTSTAMP:20260419T125025Z
URL:https://members.lakeviewroscoevillage.org/events/details/diag-bar-grill-new-years-eve-12-31-2017-11222
END:VEVENT

END:VCALENDAR
