BEGIN:VCALENDAR
VERSION:2.0
PRODID:-//ChamberMaster//Event Calendar 2.0//EN
METHOD:PUBLISH
X-PUBLISHED-TTL:P3D
REFRESH-INTERVAL:P3D
CALSCALE:GREGORIAN
BEGIN:VEVENT
DTSTART:20151212T180000Z
DTEND:20151212T210000Z
X-MICROSOFT-CDO-ALLDAYEVENT:FALSE
SUMMARY:Diag's Brunch with Santa
DESCRIPTION:Join Diag Bar & Grill for Brunch with Santa.\n\n$15 Brunch from 12-3PM\n\nGet a picture on Santa's lap in front of the fireplace from 1-3PM\n\nBring an unwrapped toy to be donated to help a child in need this holiday.
X-ALT-DESC;FMTTYPE=text/html:Join Diag Bar &amp\; Grill for Brunch with Santa.<br />\n$15 Brunch from 12-3PM<br />\nGet a picture on Santa&#39\;s lap in front of the fireplace from 1-3PM<br />\nBring an unwrapped toy to be donated to help a child in need this holiday.
LOCATION:Diag Bar & Grill 2856 N Southport
UID:e.1819.2245
SEQUENCE:3
DTSTAMP:20260422T203707Z
URL:https://members.lakeviewroscoevillage.org/events/details/diag-s-brunch-with-santa-12-12-2015-2245
END:VEVENT

END:VCALENDAR
