BEGIN:VCALENDAR
VERSION:2.0
PRODID:-//ChamberMaster//Event Calendar 2.0//EN
METHOD:PUBLISH
X-PUBLISHED-TTL:P3D
REFRESH-INTERVAL:P3D
CALSCALE:GREGORIAN
BEGIN:VEVENT
DTSTART:20170512T233000Z
DTEND:20170513T010000Z
X-MICROSOFT-CDO-ALLDAYEVENT:FALSE
SUMMARY:Diversity Month: AAPIPM Exhibit
DESCRIPTION:Ivan Lo\, a Chicago-based humanitarian photographer and physically disabled cancer survivor\, has photographed for international NGOs since 2005. He specializes in documenting humanitarian projects as well as the daily life of the communities they serve and is actively seeking to continue using his photography for worthy causes in the developing world and beyond. Ivan will give a presentation on some of the projects he has worked with as a humanitarian photographer in countries such as Afghanistan\, Cambodia\, India\, and Kenya. The presentation will include images and stories with a question and answer session to follow.
X-ALT-DESC;FMTTYPE=text/html:<span style="font-size:14px\;"><span style="font-family:tahoma\;"><sub><span style="color:black\;">Ivan Lo\, a Chicago-based humanitarian photographer and physically disabled cancer survivor\, has photographed for international NGOs since 2005. He specializes in documenting humanitarian projects as well as the daily life of the communities they serve and is actively seeking to continue using his photography for worthy causes in the developing world and beyond. Ivan will give a presentation on some of the projects he has worked with as a humanitarian photographer in countries such as Afghanistan\, Cambodia\, India\, and Kenya. The presentation will include images and stories with a question and answer session to follow.</span></sub></span></span>
LOCATION:Lincoln Belmont Branch 1659 W Melrose St Chicago\, IL 60657
UID:e.1819.5168
SEQUENCE:3
DTSTAMP:20260419T220356Z
URL:https://members.lakeviewroscoevillage.org/events/details/diversity-month-aapipm-exhibit-05-12-2017-5168
END:VEVENT

END:VCALENDAR
