BEGIN:VCALENDAR
VERSION:2.0
PRODID:-//ChamberMaster//Event Calendar 2.0//EN
METHOD:PUBLISH
X-PUBLISHED-TTL:P3D
REFRESH-INTERVAL:P3D
CALSCALE:GREGORIAN
BEGIN:VEVENT
DTSTART:20140112T170000Z
DTEND:20140112T190000Z
X-MICROSOFT-CDO-ALLDAYEVENT:FALSE
SUMMARY:DIY Decadence Hosted by Debi Lilly
DESCRIPTION:Join us as gorgeous wedding trends come alive:\n\n\n\nFloral\, Cocktails\, Paper\, Catering\, Cakes\, Beauty\, Linen\, Favors\, and more.\n\n\n\nPure Kitchen Catering\, Baked the Bakery\, Toni Patisserie\, Smilebooth\, BBJLinen\, Beauty on Call\, Diane Bronstein.\n\n\n\nSunday\, Jan 12\, 11a-1p\n\n\n\nA Perfect Event\, 3050 N Lincoln\, Chicago\n\n\n\nRsvp before Jan 5th\n\ninfo@aperfectevent.com\n\n773-244-9333
X-ALT-DESC;FMTTYPE=text/html:<span itemprop="description"><span class="fsl">Join us as gorgeous wedding trends come alive:<br />\n<br />\nFloral\, Cocktails\, Paper\, Catering\, Cakes\, Beauty\, Linen\, Favors\, and more.<br />\n<br />\nPure Kitchen Catering\, Baked the Bakery\, Toni Patisserie\, Smilebooth\, BBJLinen\, Beauty on Call\, Diane Bronstein.<br />\n<br />\nSunday\, Jan 12\, 11a-1p<br />\n<br />\nA Perfect Event\, 3050 N Lincoln\, Chicago<br />\n<br />\nRsvp before Jan 5th<br />\ninfo@aperfectevent.com<br />\n773-244-9333</span></span>
LOCATION:A Perfect Event 3050 N Lincoln Chicago\, IL 60657
UID:e.1819.169
SEQUENCE:3
DTSTAMP:20260424T172622Z
URL:https://members.lakeviewroscoevillage.org/events/details/diy-decadence-hosted-by-debi-lilly-01-12-2014-169
END:VEVENT

END:VCALENDAR
