BEGIN:VCALENDAR
VERSION:2.0
PRODID:-//ChamberMaster//Event Calendar 2.0//EN
METHOD:PUBLISH
X-PUBLISHED-TTL:P3D
REFRESH-INTERVAL:P3D
CALSCALE:GREGORIAN
BEGIN:VEVENT
DTSTART:20170326T200000Z
DTEND:20170326T210000Z
X-MICROSOFT-CDO-ALLDAYEVENT:FALSE
SUMMARY:Dog + Baby class
DESCRIPTION:"Dogs + Babies" is a class for new and expectant parents who have a dog. It helps them prepare the dog\, the home and themselves for when the new baby comes home. It also teaches them techniques for how to manage both the dog and the baby so that both are getting their needs met and everyone stays safe. This class is based on the teaching methods of Family Paws. The parents receive a folder full of educational handouts and resources.\n\n\n\nThis class is presented by Alicia Obando\, MA\, of Pitter Patter Parenting. She has 30 years experience working with children and 15 years experience working with dogs and cats. Pitter Patter Parenting provides pet care\, education and support to help families manage kids and pets.
X-ALT-DESC;FMTTYPE=text/html:<span style="font-family:helvetica\,sans-serif">&quot\;<strong>Dogs + Babies</strong>&quot\; is a class for new and expectant parents who have a dog. It helps them prepare the dog\, the home and themselves for when the new baby comes home. It also teaches them techniques for how to manage both the dog and the baby so that both are getting their needs met and everyone stays safe. This class is based on the teaching methods of&nbsp\;<em>Family Paws</em>. The parents receive a folder full of educational handouts and resources.<br />\n<br />\nThis class is presented by Alicia Obando\, MA\, of Pitter Patter Parenting. She has 30 years experience working with children and 15 years experience working with dogs and cats. Pitter Patter Parenting provides pet care\, education and support to help families manage kids and pets.</span>
LOCATION:Dogaholics\, 3608 N. Southport Ave.\, Chicago 60657
UID:e.1819.5011
SEQUENCE:3
DTSTAMP:20260419T235423Z
URL:https://members.lakeviewroscoevillage.org/events/details/dog-baby-class-03-26-2017-5011
END:VEVENT

END:VCALENDAR
