BEGIN:VCALENDAR
VERSION:2.0
PRODID:-//ChamberMaster//Event Calendar 2.0//EN
METHOD:PUBLISH
X-PUBLISHED-TTL:P3D
REFRESH-INTERVAL:P3D
CALSCALE:GREGORIAN
BEGIN:VEVENT
DTSTART:20140427T193000Z
DTEND:20140427T210000Z
X-MICROSOFT-CDO-ALLDAYEVENT:FALSE
SUMMARY:Dog Walk for H2O
DESCRIPTION:Dog Walk for H20\n\nSunday\, April 27th\n\nregistration @2:30 pm - Walk @ 3pm\n\n3435 N Southport Avenue\n\n\n\nJoin us for this great\, family friendly event! People\, dogs\, and strollers welcomed.\n\n1 mile course.\n\n\n\nRegister at any Indira Salon location. \n\n\n\nProceeds benefit Alliance for the Great Lakes. Sponsored by Indira Salon and Dog-a-holics.
X-ALT-DESC;FMTTYPE=text/html:<strong>Dog Walk for H20</strong><br />\nSunday\, April 27th<br />\nregistration @2:30 pm - Walk @ 3pm<br />\n3435 N Southport Avenue<br />\n<br />\nJoin us for this great\, family friendly event! People\, dogs\, and strollers welcomed.<br />\n1 mile course.<br />\n<br />\nRegister at any<a href="http://indirasalonspa.com/"> Indira&nbsp\;Salon</a> location.&nbsp\;<br />\n<br />\nProceeds benefit <a href="http://www.greatlakes.org/">Alliance for the Great Lakes</a>. Sponsored by <a href="http://indirasalonspa.com/">Indira&nbsp\;Salon</a>&nbsp\;and<a href="http://dog-a-holics.myshopify.com/"> Dog-a-holics</a>.<br />\n<br />\n&nbsp\;
LOCATION:Registration at Indira Salon: 3435 N. Southport Ave.
UID:e.1819.246
SEQUENCE:3
DTSTAMP:20260424T135344Z
URL:https://members.lakeviewroscoevillage.org/events/details/dog-walk-for-h2o-04-27-2014-246
END:VEVENT

END:VCALENDAR
