BEGIN:VCALENDAR
VERSION:2.0
PRODID:-//ChamberMaster//Event Calendar 2.0//EN
METHOD:PUBLISH
X-PUBLISHED-TTL:P3D
REFRESH-INTERVAL:P3D
CALSCALE:GREGORIAN
BEGIN:VEVENT
DTSTART:20141025T160000Z
DTEND:20141025T200000Z
X-MICROSOFT-CDO-ALLDAYEVENT:FALSE
SUMMARY:Dogaholics Howl'ween Muttsquerade
DESCRIPTION:-because they'll do anything for a treat-
X-ALT-DESC;FMTTYPE=text/html:-because they&#39\;ll do anything for a treat-
LOCATION:3608 N Southport Ave.
UID:e.1819.511
SEQUENCE:3
DTSTAMP:20260423T223748Z
URL:https://members.lakeviewroscoevillage.org/events/details/dogaholics-howl-ween-muttsquerade-10-25-2014-511
END:VEVENT

END:VCALENDAR
