BEGIN:VCALENDAR
VERSION:2.0
PRODID:-//ChamberMaster//Event Calendar 2.0//EN
METHOD:PUBLISH
X-PUBLISHED-TTL:P3D
REFRESH-INTERVAL:P3D
CALSCALE:GREGORIAN
BEGIN:VEVENT
DTSTART:20140509T233000Z
DTEND:20140510T004500Z
X-MICROSOFT-CDO-ALLDAYEVENT:FALSE
SUMMARY:Donation Class: Cinco de Mayo Yoga
DESCRIPTION:
X-ALT-DESC;FMTTYPE=text/html:
LOCATION:Ganesha Yoga 3113 N. Lincoln Ave Chicago\, IL 60657
UID:e.1819.269
SEQUENCE:3
DTSTAMP:20260424T095325Z
URL:https://members.lakeviewroscoevillage.org/events/details/donation-class-cinco-de-mayo-yoga-05-09-2014-269
END:VEVENT

END:VCALENDAR
