BEGIN:VCALENDAR
VERSION:2.0
PRODID:-//ChamberMaster//Event Calendar 2.0//EN
METHOD:PUBLISH
X-PUBLISHED-TTL:P3D
REFRESH-INTERVAL:P3D
CALSCALE:GREGORIAN
BEGIN:VEVENT
DTSTART:20150930T000000Z
DTEND:20150930T004500Z
X-MICROSOFT-CDO-ALLDAYEVENT:FALSE
SUMMARY:Drop in Meditation
DESCRIPTION:Meditation for Busy People - Experience peace\, tranquility and stress free life.
X-ALT-DESC;FMTTYPE=text/html:Meditation for Busy People - Experience peace\, tranquility and stress free life.
LOCATION:737 W Belmont Ave\, Chicago IL 60657
UID:e.1819.1821
SEQUENCE:3
DTSTAMP:20260423T040559Z
URL:https://members.lakeviewroscoevillage.org/events/details/drop-in-meditation-09-29-2015-1821
END:VEVENT

END:VCALENDAR
