BEGIN:VCALENDAR
VERSION:2.0
PRODID:-//ChamberMaster//Event Calendar 2.0//EN
METHOD:PUBLISH
X-PUBLISHED-TTL:P3D
REFRESH-INTERVAL:P3D
CALSCALE:GREGORIAN
BEGIN:VEVENT
DTSTART:20161025T233000Z
DTEND:20161026T003000Z
X-MICROSOFT-CDO-ALLDAYEVENT:FALSE
SUMMARY:Effective Strategies to Shed Excess Weight
DESCRIPTION:Losing weight is a challenge.  This challenge is made even more difficult by the promises made by wildly differing programs\, making it hard to determine what actually works.  According to doctors on television shows\, the media and marketing campaigns there are miracle cures to excess body weight\, products that melt fat away and foods you should eat daily and others you shouldn't touch with a 10-foot pole.  The information is commonly contradictory\, so what is the best way to lose weight based on SCIENCE?  What are the research-proven ways to lose weight and keep it off?  \n\nJoin us on Tuesday\, Oct. 25th at 6:30 PM to find out as our Registered Dietitian breaks it down.  In this event you will not only gain a foundation of knowledge of safe\, healthy and effective weight loss approaches\, you will also have the opportunity to ask a nutrition expert specific food and nutrition related questions following the event.  \n\nLight\, healthy appetizers and beverages will be provided.  \n\nMinimum age: 18 years
X-ALT-DESC;FMTTYPE=text/html:<p>Losing weight is a challenge. &nbsp\;This challenge is made even more difficult by the promises made by wildly differing programs\, making it hard to determine what actually works. &nbsp\;According to doctors on television shows\, the media and marketing campaigns there are miracle cures to excess body weight\, products that melt fat away and foods you should eat daily and others you shouldn&#39\;t touch with a 10-foot pole. &nbsp\;The information is commonly&nbsp\;contradictory\, so what is the best way to lose weight based on SCIENCE? &nbsp\;What are the research-proven ways to lose weight and keep it off? &nbsp\;</p>\n\n<p>Join us on Tuesday\, Oct. 25th at 6:30 PM to find out as our Registered Dietitian breaks it down. &nbsp\;In this event you will not only gain a foundation of knowledge of safe\, healthy and effective weight loss approaches\, you will also have the opportunity to ask a nutrition expert specific food and nutrition related questions following the event. &nbsp\;</p>\n\n<p>Light\, healthy appetizers and beverages will be provided. &nbsp\;</p>\n\n<p>Minimum age: 18 years&nbsp\;</p>\n
LOCATION:3000 N. Halsted St. Suite 623 Chicago\, IL 60657
UID:e.1819.3816
SEQUENCE:3
DTSTAMP:20260422T085445Z
URL:https://members.lakeviewroscoevillage.org/events/details/effective-strategies-to-shed-excess-weight-10-25-2016-3816
END:VEVENT

END:VCALENDAR
