BEGIN:VCALENDAR
VERSION:2.0
PRODID:-//ChamberMaster//Event Calendar 2.0//EN
METHOD:PUBLISH
X-PUBLISHED-TTL:P3D
REFRESH-INTERVAL:P3D
CALSCALE:GREGORIAN
BEGIN:VEVENT
DTSTART;VALUE=DATE:20140307
DTEND;VALUE=DATE:20140314
TRANSP:TRANSPARENT
X-MICROSOFT-CDO-ALLDAYEVENT:TRUE
SUMMARY:Elaine Stritch: Shoot Me at The Music Box Theatre
DESCRIPTION:What does it mean to be a performing artist   first\, last and always? Broadway legend Elaine Stritch can answer that. At 87\, Stritch is still here\, dominating the stage in her one woman cabaret act. In stolen moments from her corner room at the Carlyle\, and on breaks from her tour and work\, candid reflections about her life are punctuated with rare archival footage\, words from friends\, and photographs from her personal collection. By turns bold\, hilarious and achingly poignant\, the journey connects Stritch's present to her past\, and an inspiring portrait of a one-of-a-kind survivor emerges.
X-ALT-DESC;FMTTYPE=text/html:<span style="font-family:helvetica\,sans-serif\;"><span style="font-size:9.0pt\;">What does it mean to be a performing artist &ndash\; first\, last and always? Broadway legend Elaine Stritch can answer that. At 87\, Stritch is still here\, dominating the stage in her one woman cabaret act. In stolen moments from her corner room at the Carlyle\, and on breaks from her tour and work\, candid reflections about her life are punctuated with rare archival footage\, words from friends\, and photographs from her personal collection. By turns bold\, hilarious and achingly poignant\, the journey connects Stritch&rsquo\;s present to her past\, and an inspiring portrait of a one-of-a-kind survivor emerges.</span></span>
LOCATION:Music Box Theatre 3733 N. Southport Ave. Chicago\, IL 60613
UID:e.1819.227
SEQUENCE:3
DTSTAMP:20260424T141105Z
URL:https://members.lakeviewroscoevillage.org/events/details/elaine-stritch-shoot-me-at-the-music-box-theatre-03-07-2014-227
END:VEVENT

END:VCALENDAR
