BEGIN:VCALENDAR
VERSION:2.0
PRODID:-//ChamberMaster//Event Calendar 2.0//EN
METHOD:PUBLISH
X-PUBLISHED-TTL:P3D
REFRESH-INTERVAL:P3D
CALSCALE:GREGORIAN
BEGIN:VEVENT
DTSTART:20150731T001500Z
DTEND:20150731T011500Z
X-MICROSOFT-CDO-ALLDAYEVENT:FALSE
SUMMARY:Energizing Vinyasa Flow
DESCRIPTION:This open-level Vinyasa class with Autumn Anderson will bring focus to the union of breath and movement\, as well as proper alignment. Over the course of 60 minutes\, we will build internal heat through dynamic and energizing movements that will increase strength\, flexibility\, and balance by flowing through postures that are suitable for beginners but can be modified for intermediate practitioners. Come prepared to take on new challenges with the body while finding peace and stillness in the mind. Participants will receive 20% off full price merchandise in store. Mats available on a first come first serve basis.
X-ALT-DESC;FMTTYPE=text/html:This open-level Vinyasa class with Autumn Anderson will bring focus to the union of breath and movement\, as well as proper alignment. Over the course of 60 minutes\, we will build internal heat through dynamic and energizing movements that will increase strength\, flexibility\, and balance by flowing through postures that are suitable for beginners but can be modified for intermediate practitioners. Come prepared to take on new challenges with the body while finding peace and stillness in the mind. Participants will receive 20% off full price merchandise in store. Mats available on a first come first serve basis.
LOCATION:Lol 3434 N Southport Chicago\, IL 60657
UID:e.1819.1784
SEQUENCE:3
DTSTAMP:20260423T055121Z
URL:https://members.lakeviewroscoevillage.org/events/details/energizing-vinyasa-flow-07-30-2015-1784
END:VEVENT

END:VCALENDAR
