BEGIN:VCALENDAR
VERSION:2.0
PRODID:-//ChamberMaster//Event Calendar 2.0//EN
METHOD:PUBLISH
X-PUBLISHED-TTL:P3D
REFRESH-INTERVAL:P3D
CALSCALE:GREGORIAN
BEGIN:VEVENT
DTSTART:20150320T230000Z
DTEND:20150321T020000Z
X-MICROSOFT-CDO-ALLDAYEVENT:FALSE
SUMMARY:"ESCOMBROS\," New Work by Luis Sahagun Opening Reception
DESCRIPTION:ESCOMBROS (spanish for rubble)\, a solo exhibition of new work by artist Luis Sahagun will be on view at Kruger Gallery Chicago\, 3709 N Southport Avenue\, from March 20 - May 2\, 2015.  Sahagun\, an exciting\, innovative Mexican-American artist\, uses his experience as an undocumented immigrant growing up in Chicago Heights to inform his work.
X-ALT-DESC;FMTTYPE=text/html:<p>ESCOMBROS (spanish for rubble)\, a solo exhibition of new work by artist Luis Sahagun will be on view at Kruger Gallery Chicago\, 3709 N Southport Avenue\, from March 20 - May 2\, 2015.&nbsp\; Sahagun\, an exciting\, innovative Mexican-American artist\, uses his experience as an undocumented immigrant growing up in Chicago Heights to inform his work.</p>\n\n<div>&nbsp\;</div>\n
LOCATION:Kruger Gallery Chicago\, 3709 N Southport Ave
UID:e.1819.1494
SEQUENCE:3
DTSTAMP:20260423T132924Z
URL:https://members.lakeviewroscoevillage.org/events/details/escombros-new-work-by-luis-sahagun-opening-reception-03-20-2015-1494
END:VEVENT

END:VCALENDAR
