BEGIN:VCALENDAR
VERSION:2.0
PRODID:-//ChamberMaster//Event Calendar 2.0//EN
METHOD:PUBLISH
X-PUBLISHED-TTL:P3D
REFRESH-INTERVAL:P3D
CALSCALE:GREGORIAN
BEGIN:VEVENT
DTSTART:20160428T000000Z
DTEND:20160428T010000Z
X-MICROSOFT-CDO-ALLDAYEVENT:FALSE
SUMMARY:Essential Oils & A Healthier You
DESCRIPTION:Join Dr Dawn Webster and Jenine Gollogly R.N. as we discuss the benefits of essential oils and chiropractic care as options to creating a healthier you. After 10 years of practice\, I've heard countless people say\, "I don't want to take a pill". Their are ways to get your body back to a healthy state and let it function the way it should. Come join us as we discuss toxic loads\, immune system\, healthy sleep and managing stress. Please RSVP to 773-906-9265
X-ALT-DESC;FMTTYPE=text/html:Join Dr Dawn Webster and Jenine Gollogly R.N. as we discuss the benefits of essential oils and chiropractic care as options to creating a healthier you. After 10 years of practice\, I&#39\;ve heard countless people say\, &quot\;I don&#39\;t want to take a pill&quot\;. Their are ways to get your body back to a healthy state and let it function the way it should. Come join us as we discuss toxic loads\, immune system\, healthy sleep and managing stress. Please RSVP to 773-906-9265
LOCATION:Universal Wellness Source 3324 N Halsted Chicago\, IL 60657
UID:e.1819.2895
SEQUENCE:3
DTSTAMP:20260422T132657Z
URL:https://members.lakeviewroscoevillage.org/events/details/essential-oils-a-healthier-you-04-27-2016-2895
END:VEVENT

END:VCALENDAR
